BEGIN:VCALENDAR
VERSION:2.0
PRODID:-//Liberty Park - ECPv6.15.20//NONSGML v1.0//EN
CALSCALE:GREGORIAN
METHOD:PUBLISH
X-WR-CALNAME:Liberty Park
X-ORIGINAL-URL:https://tracyaviary.org/liberty-park
X-WR-CALDESC:Events for Liberty Park
REFRESH-INTERVAL;VALUE=DURATION:PT1H
X-Robots-Tag:noindex
X-PUBLISHED-TTL:PT1H
BEGIN:VTIMEZONE
TZID:UTC
BEGIN:STANDARD
TZOFFSETFROM:+0000
TZOFFSETTO:+0000
TZNAME:UTC
DTSTART:20250101T000000
END:STANDARD
END:VTIMEZONE
BEGIN:VEVENT
DTSTART;TZID=UTC:20260422T110000
DTEND;TZID=UTC:20260422T113000
DTSTAMP:20260425T205403
CREATED:20260403T212922Z
LAST-MODIFIED:20260403T212925Z
UID:10033742-1776855600-1776857400@tracyaviary.org
SUMMARY:Outdoor Bird Show
DESCRIPTION:
URL:https://tracyaviary.org/liberty-park/event/bird-shows-2-2-2-2-3-2/2026-04-22/
LOCATION:UT
CATEGORIES:Daily
END:VEVENT
BEGIN:VEVENT
DTSTART;TZID=UTC:20260423T110000
DTEND;TZID=UTC:20260423T113000
DTSTAMP:20260425T205403
CREATED:20260403T212922Z
LAST-MODIFIED:20260403T212925Z
UID:10033743-1776942000-1776943800@tracyaviary.org
SUMMARY:Outdoor Bird Show
DESCRIPTION:
URL:https://tracyaviary.org/liberty-park/event/bird-shows-2-2-2-2-3-2/2026-04-23/
LOCATION:UT
CATEGORIES:Daily
END:VEVENT
BEGIN:VEVENT
DTSTART;TZID=UTC:20260424T110000
DTEND;TZID=UTC:20260424T113000
DTSTAMP:20260425T205403
CREATED:20260403T212922Z
LAST-MODIFIED:20260403T212925Z
UID:10018418-1777028400-1777030200@tracyaviary.org
SUMMARY:Outdoor Bird Show
DESCRIPTION:
URL:https://tracyaviary.org/liberty-park/event/bird-shows-2-2-2-2-3-2/2026-04-24/
LOCATION:UT
CATEGORIES:Daily
END:VEVENT
BEGIN:VEVENT
DTSTART;TZID=UTC:20260424T133000
DTEND;TZID=UTC:20260424T135000
DTSTAMP:20260425T205403
CREATED:20260403T213740Z
LAST-MODIFIED:20260403T213755Z
UID:10035198-1777037400-1777038600@tracyaviary.org
SUMMARY:Indoor Bird Show
DESCRIPTION:
URL:https://tracyaviary.org/liberty-park/event/indoor-bird-show/2026-04-24/
LOCATION:UT
CATEGORIES:Daily
END:VEVENT
BEGIN:VEVENT
DTSTART;TZID=UTC:20260425T110000
DTEND;TZID=UTC:20260425T113000
DTSTAMP:20260425T205403
CREATED:20260403T212922Z
LAST-MODIFIED:20260403T212925Z
UID:10018419-1777114800-1777116600@tracyaviary.org
SUMMARY:Outdoor Bird Show
DESCRIPTION:
URL:https://tracyaviary.org/liberty-park/event/bird-shows-2-2-2-2-3-2/2026-04-25/
LOCATION:UT
CATEGORIES:Daily
END:VEVENT
BEGIN:VEVENT
DTSTART;TZID=UTC:20260425T133000
DTEND;TZID=UTC:20260425T135000
DTSTAMP:20260425T205403
CREATED:20260403T213740Z
LAST-MODIFIED:20260403T213755Z
UID:10035199-1777123800-1777125000@tracyaviary.org
SUMMARY:Indoor Bird Show
DESCRIPTION:
URL:https://tracyaviary.org/liberty-park/event/indoor-bird-show/2026-04-25/
LOCATION:UT
CATEGORIES:Daily
END:VEVENT
BEGIN:VEVENT
DTSTART;TZID=UTC:20260426T090000
DTEND;TZID=UTC:20260426T170000
DTSTAMP:20260425T205403
CREATED:20260403T185414Z
LAST-MODIFIED:20260403T185831Z
UID:10033734-1777194000-1777222800@tracyaviary.org
SUMMARY:International Flamingo Day
DESCRIPTION:Stop by Tracy Aviary to celebrate International Flamingo Day. Enjoy a $1 off admission when you wear pink! \nActivities happening throughout the day include: \n\n\nKeeper Talks\nFlamingo-themed merch at our Nature Store\nFlamingo-themed treats at our Bird Feeder Cafe and Thirst cookies
URL:https://tracyaviary.org/liberty-park/event/international-flamingo-day/
LOCATION:UT
ATTACH;FMTTYPE=image/png:https://tracyaviary.org/liberty-park/wp-content/uploads/sites/2/2026/04/Website-Event-image-5.png
END:VEVENT
BEGIN:VEVENT
DTSTART;TZID=UTC:20260426T133000
DTEND;TZID=UTC:20260426T135000
DTSTAMP:20260425T205403
CREATED:20260403T213740Z
LAST-MODIFIED:20260403T213755Z
UID:10035200-1777210200-1777211400@tracyaviary.org
SUMMARY:Indoor Bird Show
DESCRIPTION:
URL:https://tracyaviary.org/liberty-park/event/indoor-bird-show/2026-04-26/
LOCATION:UT
CATEGORIES:Daily
END:VEVENT
BEGIN:VEVENT
DTSTART;TZID=UTC:20260427T110000
DTEND;TZID=UTC:20260427T111500
DTSTAMP:20260425T205403
CREATED:20260403T213252Z
LAST-MODIFIED:20260403T213358Z
UID:10034988-1777287600-1777288500@tracyaviary.org
SUMMARY:Ambassador Bird Demonstration
DESCRIPTION:
URL:https://tracyaviary.org/liberty-park/event/ambassador-bird-demonstration-3/2026-04-27/
LOCATION:UT
CATEGORIES:Daily
END:VEVENT
BEGIN:VEVENT
DTSTART;TZID=UTC:20260427T124500
DTEND;TZID=UTC:20260427T130000
DTSTAMP:20260425T205403
CREATED:20260213T153845Z
LAST-MODIFIED:20260213T153846Z
UID:10024860-1777293900-1777294800@tracyaviary.org
SUMMARY:Plant Tour
DESCRIPTION:
URL:https://tracyaviary.org/liberty-park/event/plant-tour-2-2/2026-04-27/
LOCATION:UT
CATEGORIES:Daily
END:VEVENT
BEGIN:VEVENT
DTSTART;TZID=UTC:20260428T110000
DTEND;TZID=UTC:20260428T113000
DTSTAMP:20260425T205403
CREATED:20260403T212922Z
LAST-MODIFIED:20260403T212925Z
UID:10033744-1777374000-1777375800@tracyaviary.org
SUMMARY:Outdoor Bird Show
DESCRIPTION:
URL:https://tracyaviary.org/liberty-park/event/bird-shows-2-2-2-2-3-2/2026-04-28/
LOCATION:UT
CATEGORIES:Daily
END:VEVENT
BEGIN:VEVENT
DTSTART;TZID=UTC:20260429T110000
DTEND;TZID=UTC:20260429T113000
DTSTAMP:20260425T205403
CREATED:20260403T212922Z
LAST-MODIFIED:20260403T212925Z
UID:10033745-1777460400-1777462200@tracyaviary.org
SUMMARY:Outdoor Bird Show
DESCRIPTION:
URL:https://tracyaviary.org/liberty-park/event/bird-shows-2-2-2-2-3-2/2026-04-29/
LOCATION:UT
CATEGORIES:Daily
END:VEVENT
BEGIN:VEVENT
DTSTART;TZID=UTC:20260430T110000
DTEND;TZID=UTC:20260430T113000
DTSTAMP:20260425T205403
CREATED:20260403T212922Z
LAST-MODIFIED:20260403T212925Z
UID:10033746-1777546800-1777548600@tracyaviary.org
SUMMARY:Outdoor Bird Show
DESCRIPTION:
URL:https://tracyaviary.org/liberty-park/event/bird-shows-2-2-2-2-3-2/2026-04-30/
LOCATION:UT
CATEGORIES:Daily
END:VEVENT
BEGIN:VEVENT
DTSTART;TZID=UTC:20260501T110000
DTEND;TZID=UTC:20260501T113000
DTSTAMP:20260425T205403
CREATED:20260403T212922Z
LAST-MODIFIED:20260403T212925Z
UID:10018424-1777633200-1777635000@tracyaviary.org
SUMMARY:Outdoor Bird Show
DESCRIPTION:
URL:https://tracyaviary.org/liberty-park/event/bird-shows-2-2-2-2-3-2/2026-05-01/
LOCATION:UT
CATEGORIES:Daily
END:VEVENT
BEGIN:VEVENT
DTSTART;TZID=UTC:20260501T133000
DTEND;TZID=UTC:20260501T135000
DTSTAMP:20260425T205403
CREATED:20260403T213740Z
LAST-MODIFIED:20260403T213755Z
UID:10035201-1777642200-1777643400@tracyaviary.org
SUMMARY:Indoor Bird Show
DESCRIPTION:
URL:https://tracyaviary.org/liberty-park/event/indoor-bird-show/2026-05-01/
LOCATION:UT
CATEGORIES:Daily
END:VEVENT
BEGIN:VEVENT
DTSTART;TZID=UTC:20260502T110000
DTEND;TZID=UTC:20260502T113000
DTSTAMP:20260425T205403
CREATED:20260403T212922Z
LAST-MODIFIED:20260403T212925Z
UID:10018425-1777719600-1777721400@tracyaviary.org
SUMMARY:Outdoor Bird Show
DESCRIPTION:
URL:https://tracyaviary.org/liberty-park/event/bird-shows-2-2-2-2-3-2/2026-05-02/
LOCATION:UT
CATEGORIES:Daily
END:VEVENT
BEGIN:VEVENT
DTSTART;TZID=UTC:20260502T133000
DTEND;TZID=UTC:20260502T135000
DTSTAMP:20260425T205403
CREATED:20260403T213740Z
LAST-MODIFIED:20260403T213755Z
UID:10035202-1777728600-1777729800@tracyaviary.org
SUMMARY:Indoor Bird Show
DESCRIPTION:
URL:https://tracyaviary.org/liberty-park/event/indoor-bird-show/2026-05-02/
LOCATION:UT
CATEGORIES:Daily
END:VEVENT
BEGIN:VEVENT
DTSTART;TZID=UTC:20260503T133000
DTEND;TZID=UTC:20260503T135000
DTSTAMP:20260425T205403
CREATED:20260403T213740Z
LAST-MODIFIED:20260403T213755Z
UID:10035203-1777815000-1777816200@tracyaviary.org
SUMMARY:Indoor Bird Show
DESCRIPTION:
URL:https://tracyaviary.org/liberty-park/event/indoor-bird-show/2026-05-03/
LOCATION:UT
CATEGORIES:Daily
END:VEVENT
BEGIN:VEVENT
DTSTART;TZID=UTC:20260504T110000
DTEND;TZID=UTC:20260504T111500
DTSTAMP:20260425T205403
CREATED:20260403T213252Z
LAST-MODIFIED:20260403T213358Z
UID:10034989-1777892400-1777893300@tracyaviary.org
SUMMARY:Ambassador Bird Demonstration
DESCRIPTION:
URL:https://tracyaviary.org/liberty-park/event/ambassador-bird-demonstration-3/2026-05-04/
LOCATION:UT
CATEGORIES:Daily
END:VEVENT
BEGIN:VEVENT
DTSTART;TZID=UTC:20260504T124500
DTEND;TZID=UTC:20260504T130000
DTSTAMP:20260425T205403
CREATED:20260213T153845Z
LAST-MODIFIED:20260213T153846Z
UID:10024861-1777898700-1777899600@tracyaviary.org
SUMMARY:Plant Tour
DESCRIPTION:
URL:https://tracyaviary.org/liberty-park/event/plant-tour-2-2/2026-05-04/
LOCATION:UT
CATEGORIES:Daily
END:VEVENT
BEGIN:VEVENT
DTSTART;TZID=UTC:20260505T110000
DTEND;TZID=UTC:20260505T113000
DTSTAMP:20260425T205403
CREATED:20260403T212922Z
LAST-MODIFIED:20260403T212925Z
UID:10033747-1777978800-1777980600@tracyaviary.org
SUMMARY:Outdoor Bird Show
DESCRIPTION:
URL:https://tracyaviary.org/liberty-park/event/bird-shows-2-2-2-2-3-2/2026-05-05/
LOCATION:UT
CATEGORIES:Daily
END:VEVENT
BEGIN:VEVENT
DTSTART;TZID=UTC:20260506T110000
DTEND;TZID=UTC:20260506T113000
DTSTAMP:20260425T205403
CREATED:20260403T212922Z
LAST-MODIFIED:20260403T212925Z
UID:10033748-1778065200-1778067000@tracyaviary.org
SUMMARY:Outdoor Bird Show
DESCRIPTION:
URL:https://tracyaviary.org/liberty-park/event/bird-shows-2-2-2-2-3-2/2026-05-06/
LOCATION:UT
CATEGORIES:Daily
END:VEVENT
BEGIN:VEVENT
DTSTART;TZID=UTC:20260507T110000
DTEND;TZID=UTC:20260507T113000
DTSTAMP:20260425T205403
CREATED:20260403T212922Z
LAST-MODIFIED:20260403T212925Z
UID:10033749-1778151600-1778153400@tracyaviary.org
SUMMARY:Outdoor Bird Show
DESCRIPTION:
URL:https://tracyaviary.org/liberty-park/event/bird-shows-2-2-2-2-3-2/2026-05-07/
LOCATION:UT
CATEGORIES:Daily
END:VEVENT
BEGIN:VEVENT
DTSTART;TZID=UTC:20260508T110000
DTEND;TZID=UTC:20260508T113000
DTSTAMP:20260425T205403
CREATED:20260403T212922Z
LAST-MODIFIED:20260403T212925Z
UID:10018430-1778238000-1778239800@tracyaviary.org
SUMMARY:Outdoor Bird Show
DESCRIPTION:
URL:https://tracyaviary.org/liberty-park/event/bird-shows-2-2-2-2-3-2/2026-05-08/
LOCATION:UT
CATEGORIES:Daily
END:VEVENT
BEGIN:VEVENT
DTSTART;TZID=UTC:20260508T133000
DTEND;TZID=UTC:20260508T135000
DTSTAMP:20260425T205403
CREATED:20260403T213740Z
LAST-MODIFIED:20260403T213755Z
UID:10035204-1778247000-1778248200@tracyaviary.org
SUMMARY:Indoor Bird Show
DESCRIPTION:
URL:https://tracyaviary.org/liberty-park/event/indoor-bird-show/2026-05-08/
LOCATION:UT
CATEGORIES:Daily
END:VEVENT
BEGIN:VEVENT
DTSTART;TZID=UTC:20260509T110000
DTEND;TZID=UTC:20260509T113000
DTSTAMP:20260425T205403
CREATED:20260403T212922Z
LAST-MODIFIED:20260403T212925Z
UID:10018431-1778324400-1778326200@tracyaviary.org
SUMMARY:Outdoor Bird Show
DESCRIPTION:
URL:https://tracyaviary.org/liberty-park/event/bird-shows-2-2-2-2-3-2/2026-05-09/
LOCATION:UT
CATEGORIES:Daily
END:VEVENT
BEGIN:VEVENT
DTSTART;TZID=UTC:20260509T133000
DTEND;TZID=UTC:20260509T135000
DTSTAMP:20260425T205403
CREATED:20260403T213740Z
LAST-MODIFIED:20260403T213755Z
UID:10035205-1778333400-1778334600@tracyaviary.org
SUMMARY:Indoor Bird Show
DESCRIPTION:
URL:https://tracyaviary.org/liberty-park/event/indoor-bird-show/2026-05-09/
LOCATION:UT
CATEGORIES:Daily
END:VEVENT
BEGIN:VEVENT
DTSTART;TZID=UTC:20260510T103000
DTEND;TZID=UTC:20260510T120000
DTSTAMP:20260425T205403
CREATED:20260424T224546Z
LAST-MODIFIED:20260424T224546Z
UID:10035278-1778409000-1778414400@tracyaviary.org
SUMMARY:Mother's Day Teatime at Tracy - Sweet Sunrise
DESCRIPTION:In honor of the most loved person on the planet\, celebrate Mother’s Day Teatime at the Tracy Aviary. \nJoin us for a family-friendly teatime inside Tracy Aviary’s Historic Chase Mill featuring savory bites\, sweet treats\, and soothing delicious tea. We will offer a selection of caffeinated and herbal teas from Tea Zaanti\, paired with sweets and baked goods from local vendors. Space is limited\, so reserve your seat today! \nTickets: Adult $36 / Child $25 \nMorning Teatime:  10:30 AM – 12:00 PM\nEntry from 10:30 AM – 11:30 AM* \nLocation: Chase Mill \n*We will seat groups together to the extent possible (max 8 per table). \nTracy Aviary will always strive to have snack options that are gluten-free\, soy-free\, nut-free\, dairy-free\, and vegan. We cannot guarantee\, however\, at this time that any items will remain 100% free from contact with these ingredients. Please\, plan accordingly. \nThis event is ADA accessible for those with mobility issues. \n***Refunds are provided with a cancellation notice of 48 hours or more.*** \nPlease email events@tracyaviary.org with any questions\, to be added to the waitlist\, or if you need to cancel your reservation. \nTICKETS
URL:https://tracyaviary.org/liberty-park/event/mothers-day-teatime-at-tracy-sweet-sunrise/
LOCATION:Tracy Aviary\, 589 E 1300 S\, Salt Lake City\, UT 84105\, Salt Lake City\, UT\, 84105\, United States
ATTACH;FMTTYPE=image/png:https://tracyaviary.org/liberty-park/wp-content/uploads/sites/2/2023/03/Morning-Teatime-at-Tracy260.png
END:VEVENT
BEGIN:VEVENT
DTSTART;TZID=UTC:20260510T133000
DTEND;TZID=UTC:20260510T135000
DTSTAMP:20260425T205403
CREATED:20260403T213740Z
LAST-MODIFIED:20260403T213755Z
UID:10035206-1778419800-1778421000@tracyaviary.org
SUMMARY:Indoor Bird Show
DESCRIPTION:
URL:https://tracyaviary.org/liberty-park/event/indoor-bird-show/2026-05-10/
LOCATION:UT
CATEGORIES:Daily
END:VEVENT
BEGIN:VEVENT
DTSTART;TZID=UTC:20260510T143000
DTEND;TZID=UTC:20260510T160000
DTSTAMP:20260425T205403
CREATED:20260424T224535Z
LAST-MODIFIED:20260424T224535Z
UID:10035279-1778423400-1778428800@tracyaviary.org
SUMMARY:Mother's Day Teatime at Tracy - Afternoon Niceties
DESCRIPTION:In honor of the most loved person on the planet\, celebrate Mother’s Day Teatime at the Tracy Aviary. \nJoin us for a family-friendly teatime inside Tracy Aviary’s Historic Chase Mill featuring savory bites\, sweet treats\, and soothing delicious tea. We will offer a selection of caffeinated and herbal teas from Tea Zaanti\, paired with sweets and baked goods from local vendors. Space is limited\, so reserve your seat today! \nTickets: Adult $36 / Child $25 \nAfternoon Teatime: 2:30 PM – 4:00 PM\nEntry from 2:30 PM – 3:30 PM* \nLocation: Chase Mill \n*We will seat groups together to the extent possible (max 8 per table). \nTracy Aviary will always strive to have snack options that are gluten-free\, soy-free\, nut-free\, dairy-free\, and vegan. We cannot guarantee\, however\, at this time that any items will remain 100% free from contact with these ingredients. Please\, plan accordingly. \nThis event is ADA accessible for those with mobility issues. \n***Refunds are provided with a cancellation notice of 48 hours or more.*** \nPlease email events@tracyaviary.org with any questions\, to be added to the waitlist\, or if you need to cancel your reservation. \nTICKETS
URL:https://tracyaviary.org/liberty-park/event/mothers-day-teatime-at-tracy-afternoon-niceties/
LOCATION:Tracy Aviary\, 589 E 1300 S\, Salt Lake City\, UT 84105\, Salt Lake City\, UT\, 84105\, United States
ATTACH;FMTTYPE=image/png:https://tracyaviary.org/liberty-park/wp-content/uploads/sites/2/2023/03/6d685f3448bec3ee45e9049753b69822.png
END:VEVENT
END:VCALENDAR