BEGIN:VCALENDAR
VERSION:2.0
PRODID:-//Liberty Park - ECPv6.15.20//NONSGML v1.0//EN
CALSCALE:GREGORIAN
METHOD:PUBLISH
X-ORIGINAL-URL:https://tracyaviary.org/liberty-park
X-WR-CALDESC:Events for Liberty Park
REFRESH-INTERVAL;VALUE=DURATION:PT1H
X-Robots-Tag:noindex
X-PUBLISHED-TTL:PT1H
BEGIN:VTIMEZONE
TZID:UTC
BEGIN:STANDARD
TZOFFSETFROM:+0000
TZOFFSETTO:+0000
TZNAME:UTC
DTSTART:20250101T000000
END:STANDARD
END:VTIMEZONE
BEGIN:VEVENT
DTSTART;TZID=UTC:20260820T110000
DTEND;TZID=UTC:20260820T113000
DTSTAMP:20260425T224538
CREATED:20260403T212922Z
LAST-MODIFIED:20260403T212925Z
UID:10033794-1787223600-1787225400@tracyaviary.org
SUMMARY:Outdoor Bird Show
DESCRIPTION:
URL:https://tracyaviary.org/liberty-park/event/bird-shows-2-2-2-2-3-2/2026-08-20/
CATEGORIES:Daily
END:VEVENT
BEGIN:VEVENT
DTSTART;TZID=UTC:20260820T180000
DTEND;TZID=UTC:20260820T193000
DTSTAMP:20260425T224538
CREATED:20260417T190823Z
LAST-MODIFIED:20260417T190823Z
UID:10035276-1787248800-1787254200@tracyaviary.org
SUMMARY:Wine Takes Flight
DESCRIPTION:In partnership with Eat Drink SLC\, each month we host a fun evening of wine education hosted by Jim Santangelo\, owner\, and Sommelier of Wine Academy of Utah. \nWine Takes Flight\nThursday from 6:00 – 7:30 pm \nThis event includes three beverages\, a special arrival pour\, and finger foods.  All while raising a glass to the birds at Tracy Aviary! \n\nIt will be inside the Chase Mill.\nGuests must be at least 21 years or older to attend this event. Please remember to bring your ID.\n\nRefunds: Due to the limited capacity and high demand for these events\, refunds are available if cancellation is made 48 hours in advance of the event. Please email us if you need to cancel. \n**In the case that this event is sold out\, feel free to email events@tracyaviary.org to be put on the event’s waitlist.**
URL:https://tracyaviary.org/liberty-park/event/wine-takes-flight-4/2026-08-20/
LOCATION:Chase Mill at Tracy Aviary\, 589 East 1300 South\, Salt Lake City\, 84105\, United States
ATTACH;FMTTYPE=image/png:https://tracyaviary.org/liberty-park/wp-content/uploads/sites/2/2022/10/Weekend-Forecast-2500-×-2500-px.png
END:VEVENT
BEGIN:VEVENT
DTSTART;TZID=UTC:20260821T110000
DTEND;TZID=UTC:20260821T113000
DTSTAMP:20260425T224538
CREATED:20260403T212922Z
LAST-MODIFIED:20260403T212925Z
UID:10018520-1787310000-1787311800@tracyaviary.org
SUMMARY:Outdoor Bird Show
DESCRIPTION:
URL:https://tracyaviary.org/liberty-park/event/bird-shows-2-2-2-2-3-2/2026-08-21/
CATEGORIES:Daily
END:VEVENT
BEGIN:VEVENT
DTSTART;TZID=UTC:20260821T133000
DTEND;TZID=UTC:20260821T135000
DTSTAMP:20260425T224538
CREATED:20260403T213740Z
LAST-MODIFIED:20260403T213755Z
UID:10035249-1787319000-1787320200@tracyaviary.org
SUMMARY:Indoor Bird Show
DESCRIPTION:
URL:https://tracyaviary.org/liberty-park/event/indoor-bird-show/2026-08-21/
CATEGORIES:Daily
END:VEVENT
BEGIN:VEVENT
DTSTART;TZID=UTC:20260822T110000
DTEND;TZID=UTC:20260822T113000
DTSTAMP:20260425T224538
CREATED:20260403T212922Z
LAST-MODIFIED:20260403T212925Z
UID:10018521-1787396400-1787398200@tracyaviary.org
SUMMARY:Outdoor Bird Show
DESCRIPTION:
URL:https://tracyaviary.org/liberty-park/event/bird-shows-2-2-2-2-3-2/2026-08-22/
CATEGORIES:Daily
END:VEVENT
BEGIN:VEVENT
DTSTART;TZID=UTC:20260822T133000
DTEND;TZID=UTC:20260822T135000
DTSTAMP:20260425T224538
CREATED:20260403T213740Z
LAST-MODIFIED:20260403T213755Z
UID:10035250-1787405400-1787406600@tracyaviary.org
SUMMARY:Indoor Bird Show
DESCRIPTION:
URL:https://tracyaviary.org/liberty-park/event/indoor-bird-show/2026-08-22/
CATEGORIES:Daily
END:VEVENT
BEGIN:VEVENT
DTSTART;TZID=UTC:20260823T133000
DTEND;TZID=UTC:20260823T135000
DTSTAMP:20260425T224538
CREATED:20260403T213740Z
LAST-MODIFIED:20260403T213755Z
UID:10035251-1787491800-1787493000@tracyaviary.org
SUMMARY:Indoor Bird Show
DESCRIPTION:
URL:https://tracyaviary.org/liberty-park/event/indoor-bird-show/2026-08-23/
CATEGORIES:Daily
END:VEVENT
BEGIN:VEVENT
DTSTART;TZID=UTC:20260824T110000
DTEND;TZID=UTC:20260824T111500
DTSTAMP:20260425T224538
CREATED:20260403T213252Z
LAST-MODIFIED:20260403T213358Z
UID:10035005-1787569200-1787570100@tracyaviary.org
SUMMARY:Ambassador Bird Demonstration
DESCRIPTION:
URL:https://tracyaviary.org/liberty-park/event/ambassador-bird-demonstration-3/2026-08-24/
CATEGORIES:Daily
END:VEVENT
BEGIN:VEVENT
DTSTART;TZID=UTC:20260824T124500
DTEND;TZID=UTC:20260824T130000
DTSTAMP:20260425T224538
CREATED:20260213T153845Z
LAST-MODIFIED:20260213T153846Z
UID:10024877-1787575500-1787576400@tracyaviary.org
SUMMARY:Plant Tour
DESCRIPTION:
URL:https://tracyaviary.org/liberty-park/event/plant-tour-2-2/2026-08-24/
CATEGORIES:Daily
END:VEVENT
BEGIN:VEVENT
DTSTART;TZID=UTC:20260825T110000
DTEND;TZID=UTC:20260825T113000
DTSTAMP:20260425T224538
CREATED:20260403T212922Z
LAST-MODIFIED:20260403T212925Z
UID:10033795-1787655600-1787657400@tracyaviary.org
SUMMARY:Outdoor Bird Show
DESCRIPTION:
URL:https://tracyaviary.org/liberty-park/event/bird-shows-2-2-2-2-3-2/2026-08-25/
CATEGORIES:Daily
END:VEVENT
BEGIN:VEVENT
DTSTART;TZID=UTC:20260826T110000
DTEND;TZID=UTC:20260826T113000
DTSTAMP:20260425T224538
CREATED:20260403T212922Z
LAST-MODIFIED:20260403T212925Z
UID:10033796-1787742000-1787743800@tracyaviary.org
SUMMARY:Outdoor Bird Show
DESCRIPTION:
URL:https://tracyaviary.org/liberty-park/event/bird-shows-2-2-2-2-3-2/2026-08-26/
CATEGORIES:Daily
END:VEVENT
BEGIN:VEVENT
DTSTART;TZID=UTC:20260827T110000
DTEND;TZID=UTC:20260827T113000
DTSTAMP:20260425T224538
CREATED:20260403T212922Z
LAST-MODIFIED:20260403T212925Z
UID:10033797-1787828400-1787830200@tracyaviary.org
SUMMARY:Outdoor Bird Show
DESCRIPTION:
URL:https://tracyaviary.org/liberty-park/event/bird-shows-2-2-2-2-3-2/2026-08-27/
CATEGORIES:Daily
END:VEVENT
BEGIN:VEVENT
DTSTART;TZID=UTC:20260828T110000
DTEND;TZID=UTC:20260828T113000
DTSTAMP:20260425T224538
CREATED:20260403T212922Z
LAST-MODIFIED:20260403T212925Z
UID:10018526-1787914800-1787916600@tracyaviary.org
SUMMARY:Outdoor Bird Show
DESCRIPTION:
URL:https://tracyaviary.org/liberty-park/event/bird-shows-2-2-2-2-3-2/2026-08-28/
CATEGORIES:Daily
END:VEVENT
BEGIN:VEVENT
DTSTART;TZID=UTC:20260828T133000
DTEND;TZID=UTC:20260828T135000
DTSTAMP:20260425T224538
CREATED:20260403T213740Z
LAST-MODIFIED:20260403T213755Z
UID:10035252-1787923800-1787925000@tracyaviary.org
SUMMARY:Indoor Bird Show
DESCRIPTION:
URL:https://tracyaviary.org/liberty-park/event/indoor-bird-show/2026-08-28/
CATEGORIES:Daily
END:VEVENT
BEGIN:VEVENT
DTSTART;TZID=UTC:20260829T110000
DTEND;TZID=UTC:20260829T113000
DTSTAMP:20260425T224538
CREATED:20260403T212922Z
LAST-MODIFIED:20260403T212925Z
UID:10018527-1788001200-1788003000@tracyaviary.org
SUMMARY:Outdoor Bird Show
DESCRIPTION:
URL:https://tracyaviary.org/liberty-park/event/bird-shows-2-2-2-2-3-2/2026-08-29/
CATEGORIES:Daily
END:VEVENT
BEGIN:VEVENT
DTSTART;TZID=UTC:20260829T133000
DTEND;TZID=UTC:20260829T135000
DTSTAMP:20260425T224538
CREATED:20260403T213740Z
LAST-MODIFIED:20260403T213755Z
UID:10035253-1788010200-1788011400@tracyaviary.org
SUMMARY:Indoor Bird Show
DESCRIPTION:
URL:https://tracyaviary.org/liberty-park/event/indoor-bird-show/2026-08-29/
CATEGORIES:Daily
END:VEVENT
BEGIN:VEVENT
DTSTART;TZID=UTC:20260830T133000
DTEND;TZID=UTC:20260830T135000
DTSTAMP:20260425T224538
CREATED:20260403T213740Z
LAST-MODIFIED:20260403T213755Z
UID:10035254-1788096600-1788097800@tracyaviary.org
SUMMARY:Indoor Bird Show
DESCRIPTION:
URL:https://tracyaviary.org/liberty-park/event/indoor-bird-show/2026-08-30/
CATEGORIES:Daily
END:VEVENT
BEGIN:VEVENT
DTSTART;TZID=UTC:20260831T110000
DTEND;TZID=UTC:20260831T111500
DTSTAMP:20260425T224538
CREATED:20260403T213252Z
LAST-MODIFIED:20260403T213358Z
UID:10035006-1788174000-1788174900@tracyaviary.org
SUMMARY:Ambassador Bird Demonstration
DESCRIPTION:
URL:https://tracyaviary.org/liberty-park/event/ambassador-bird-demonstration-3/2026-08-31/
CATEGORIES:Daily
END:VEVENT
BEGIN:VEVENT
DTSTART;TZID=UTC:20260831T124500
DTEND;TZID=UTC:20260831T130000
DTSTAMP:20260425T224538
CREATED:20260213T153845Z
LAST-MODIFIED:20260213T153846Z
UID:10024878-1788180300-1788181200@tracyaviary.org
SUMMARY:Plant Tour
DESCRIPTION:
URL:https://tracyaviary.org/liberty-park/event/plant-tour-2-2/2026-08-31/
CATEGORIES:Daily
END:VEVENT
BEGIN:VEVENT
DTSTART;TZID=UTC:20260901T110000
DTEND;TZID=UTC:20260901T113000
DTSTAMP:20260425T224538
CREATED:20260403T212922Z
LAST-MODIFIED:20260403T212925Z
UID:10033798-1788260400-1788262200@tracyaviary.org
SUMMARY:Outdoor Bird Show
DESCRIPTION:
URL:https://tracyaviary.org/liberty-park/event/bird-shows-2-2-2-2-3-2/2026-09-01/
CATEGORIES:Daily
END:VEVENT
BEGIN:VEVENT
DTSTART;TZID=UTC:20260902T110000
DTEND;TZID=UTC:20260902T113000
DTSTAMP:20260425T224538
CREATED:20260403T212922Z
LAST-MODIFIED:20260403T212925Z
UID:10033799-1788346800-1788348600@tracyaviary.org
SUMMARY:Outdoor Bird Show
DESCRIPTION:
URL:https://tracyaviary.org/liberty-park/event/bird-shows-2-2-2-2-3-2/2026-09-02/
CATEGORIES:Daily
END:VEVENT
BEGIN:VEVENT
DTSTART;TZID=UTC:20260903T110000
DTEND;TZID=UTC:20260903T113000
DTSTAMP:20260425T224538
CREATED:20260403T212922Z
LAST-MODIFIED:20260403T212925Z
UID:10033800-1788433200-1788435000@tracyaviary.org
SUMMARY:Outdoor Bird Show
DESCRIPTION:
URL:https://tracyaviary.org/liberty-park/event/bird-shows-2-2-2-2-3-2/2026-09-03/
CATEGORIES:Daily
END:VEVENT
BEGIN:VEVENT
DTSTART;TZID=UTC:20260904T110000
DTEND;TZID=UTC:20260904T113000
DTSTAMP:20260425T224538
CREATED:20260403T212922Z
LAST-MODIFIED:20260403T212925Z
UID:10018532-1788519600-1788521400@tracyaviary.org
SUMMARY:Outdoor Bird Show
DESCRIPTION:
URL:https://tracyaviary.org/liberty-park/event/bird-shows-2-2-2-2-3-2/2026-09-04/
CATEGORIES:Daily
END:VEVENT
BEGIN:VEVENT
DTSTART;TZID=UTC:20260904T133000
DTEND;TZID=UTC:20260904T135000
DTSTAMP:20260425T224538
CREATED:20260403T213740Z
LAST-MODIFIED:20260403T213755Z
UID:10035255-1788528600-1788529800@tracyaviary.org
SUMMARY:Indoor Bird Show
DESCRIPTION:
URL:https://tracyaviary.org/liberty-park/event/indoor-bird-show/2026-09-04/
CATEGORIES:Daily
END:VEVENT
BEGIN:VEVENT
DTSTART;TZID=UTC:20260905T110000
DTEND;TZID=UTC:20260905T113000
DTSTAMP:20260425T224538
CREATED:20260403T212922Z
LAST-MODIFIED:20260403T212925Z
UID:10018533-1788606000-1788607800@tracyaviary.org
SUMMARY:Outdoor Bird Show
DESCRIPTION:
URL:https://tracyaviary.org/liberty-park/event/bird-shows-2-2-2-2-3-2/2026-09-05/
CATEGORIES:Daily
END:VEVENT
BEGIN:VEVENT
DTSTART;TZID=UTC:20260905T133000
DTEND;TZID=UTC:20260905T135000
DTSTAMP:20260425T224538
CREATED:20260403T213740Z
LAST-MODIFIED:20260403T213755Z
UID:10035256-1788615000-1788616200@tracyaviary.org
SUMMARY:Indoor Bird Show
DESCRIPTION:
URL:https://tracyaviary.org/liberty-park/event/indoor-bird-show/2026-09-05/
CATEGORIES:Daily
END:VEVENT
BEGIN:VEVENT
DTSTART;TZID=UTC:20260906T133000
DTEND;TZID=UTC:20260906T135000
DTSTAMP:20260425T224538
CREATED:20260403T213740Z
LAST-MODIFIED:20260403T213755Z
UID:10035257-1788701400-1788702600@tracyaviary.org
SUMMARY:Indoor Bird Show
DESCRIPTION:
URL:https://tracyaviary.org/liberty-park/event/indoor-bird-show/2026-09-06/
CATEGORIES:Daily
END:VEVENT
BEGIN:VEVENT
DTSTART;TZID=UTC:20260907T110000
DTEND;TZID=UTC:20260907T111500
DTSTAMP:20260425T224538
CREATED:20260403T213252Z
LAST-MODIFIED:20260403T213358Z
UID:10035007-1788778800-1788779700@tracyaviary.org
SUMMARY:Ambassador Bird Demonstration
DESCRIPTION:
URL:https://tracyaviary.org/liberty-park/event/ambassador-bird-demonstration-3/2026-09-07/
CATEGORIES:Daily
END:VEVENT
BEGIN:VEVENT
DTSTART;TZID=UTC:20260907T124500
DTEND;TZID=UTC:20260907T130000
DTSTAMP:20260425T224538
CREATED:20260213T153845Z
LAST-MODIFIED:20260213T153846Z
UID:10024879-1788785100-1788786000@tracyaviary.org
SUMMARY:Plant Tour
DESCRIPTION:
URL:https://tracyaviary.org/liberty-park/event/plant-tour-2-2/2026-09-07/
CATEGORIES:Daily
END:VEVENT
BEGIN:VEVENT
DTSTART;TZID=UTC:20260908T110000
DTEND;TZID=UTC:20260908T113000
DTSTAMP:20260425T224538
CREATED:20260403T212922Z
LAST-MODIFIED:20260403T212925Z
UID:10033801-1788865200-1788867000@tracyaviary.org
SUMMARY:Outdoor Bird Show
DESCRIPTION:
URL:https://tracyaviary.org/liberty-park/event/bird-shows-2-2-2-2-3-2/2026-09-08/
CATEGORIES:Daily
END:VEVENT
END:VCALENDAR