BEGIN:VCALENDAR
VERSION:2.0
PRODID:-//Liberty Park - ECPv6.15.17.1//NONSGML v1.0//EN
CALSCALE:GREGORIAN
METHOD:PUBLISH
X-ORIGINAL-URL:https://tracyaviary.org/liberty-park
X-WR-CALDESC:Events for Liberty Park
REFRESH-INTERVAL;VALUE=DURATION:PT1H
X-Robots-Tag:noindex
X-PUBLISHED-TTL:PT1H
BEGIN:VTIMEZONE
TZID:UTC
BEGIN:STANDARD
TZOFFSETFROM:+0000
TZOFFSETTO:+0000
TZNAME:UTC
DTSTART:20250101T000000
END:STANDARD
END:VTIMEZONE
BEGIN:VEVENT
DTSTART;TZID=UTC:20260409T110000
DTEND;TZID=UTC:20260409T111500
DTSTAMP:20260310T160253
CREATED:20260306T163820Z
LAST-MODIFIED:20260306T163820Z
UID:10032713-1775732400-1775733300@tracyaviary.org
SUMMARY:Ambassador Bird Demonstration
DESCRIPTION:
URL:https://tracyaviary.org/liberty-park/event/ambassador-bird-demonstration/2026-04-09/
CATEGORIES:Daily
END:VEVENT
BEGIN:VEVENT
DTSTART;TZID=UTC:20260409T133000
DTEND;TZID=UTC:20260409T134500
DTSTAMP:20260310T160253
CREATED:20260303T183034Z
LAST-MODIFIED:20260303T183034Z
UID:10031263-1775741400-1775742300@tracyaviary.org
SUMMARY:Ambassador Bird Demonstration
DESCRIPTION:
URL:https://tracyaviary.org/liberty-park/event/ambassador-bird-demonstration-2/2026-04-09/
CATEGORIES:Daily
END:VEVENT
BEGIN:VEVENT
DTSTART;TZID=UTC:20260410T110000
DTEND;TZID=UTC:20260410T113000
DTSTAMP:20260310T160253
CREATED:20250905T204557Z
LAST-MODIFIED:20250909T170556Z
UID:10018406-1775818800-1775820600@tracyaviary.org
SUMMARY:Bird Show
DESCRIPTION:
URL:https://tracyaviary.org/liberty-park/event/bird-shows-2-2-2-2-3/2026-04-10/
CATEGORIES:Daily
END:VEVENT
BEGIN:VEVENT
DTSTART;TZID=UTC:20260410T133000
DTEND;TZID=UTC:20260410T134500
DTSTAMP:20260310T160253
CREATED:20260303T183034Z
LAST-MODIFIED:20260303T183034Z
UID:10031264-1775827800-1775828700@tracyaviary.org
SUMMARY:Ambassador Bird Demonstration
DESCRIPTION:
URL:https://tracyaviary.org/liberty-park/event/ambassador-bird-demonstration-2/2026-04-10/
CATEGORIES:Daily
END:VEVENT
BEGIN:VEVENT
DTSTART;TZID=UTC:20260411T110000
DTEND;TZID=UTC:20260411T113000
DTSTAMP:20260310T160253
CREATED:20250905T204557Z
LAST-MODIFIED:20250909T170556Z
UID:10018407-1775905200-1775907000@tracyaviary.org
SUMMARY:Bird Show
DESCRIPTION:
URL:https://tracyaviary.org/liberty-park/event/bird-shows-2-2-2-2-3/2026-04-11/
CATEGORIES:Daily
END:VEVENT
BEGIN:VEVENT
DTSTART;TZID=UTC:20260411T133000
DTEND;TZID=UTC:20260411T134500
DTSTAMP:20260310T160253
CREATED:20260303T183034Z
LAST-MODIFIED:20260303T183034Z
UID:10031265-1775914200-1775915100@tracyaviary.org
SUMMARY:Ambassador Bird Demonstration
DESCRIPTION:
URL:https://tracyaviary.org/liberty-park/event/ambassador-bird-demonstration-2/2026-04-11/
CATEGORIES:Daily
END:VEVENT
BEGIN:VEVENT
DTSTART;TZID=UTC:20260412T110000
DTEND;TZID=UTC:20260412T111500
DTSTAMP:20260310T160253
CREATED:20260306T163820Z
LAST-MODIFIED:20260306T163820Z
UID:10032714-1775991600-1775992500@tracyaviary.org
SUMMARY:Ambassador Bird Demonstration
DESCRIPTION:
URL:https://tracyaviary.org/liberty-park/event/ambassador-bird-demonstration/2026-04-12/
CATEGORIES:Daily
END:VEVENT
BEGIN:VEVENT
DTSTART;TZID=UTC:20260412T133000
DTEND;TZID=UTC:20260412T134500
DTSTAMP:20260310T160253
CREATED:20260303T183034Z
LAST-MODIFIED:20260303T183034Z
UID:10031266-1776000600-1776001500@tracyaviary.org
SUMMARY:Ambassador Bird Demonstration
DESCRIPTION:
URL:https://tracyaviary.org/liberty-park/event/ambassador-bird-demonstration-2/2026-04-12/
CATEGORIES:Daily
END:VEVENT
BEGIN:VEVENT
DTSTART;TZID=UTC:20260413T110000
DTEND;TZID=UTC:20260413T111500
DTSTAMP:20260310T160253
CREATED:20260306T163820Z
LAST-MODIFIED:20260306T163820Z
UID:10032715-1776078000-1776078900@tracyaviary.org
SUMMARY:Ambassador Bird Demonstration
DESCRIPTION:
URL:https://tracyaviary.org/liberty-park/event/ambassador-bird-demonstration/2026-04-13/
CATEGORIES:Daily
END:VEVENT
BEGIN:VEVENT
DTSTART;TZID=UTC:20260413T124500
DTEND;TZID=UTC:20260413T130000
DTSTAMP:20260310T160253
CREATED:20260213T153845Z
LAST-MODIFIED:20260213T153846Z
UID:10024858-1776084300-1776085200@tracyaviary.org
SUMMARY:Plant Tour
DESCRIPTION:
URL:https://tracyaviary.org/liberty-park/event/plant-tour-2-2/2026-04-13/
CATEGORIES:Daily
END:VEVENT
BEGIN:VEVENT
DTSTART;TZID=UTC:20260413T133000
DTEND;TZID=UTC:20260413T134500
DTSTAMP:20260310T160253
CREATED:20260303T183034Z
LAST-MODIFIED:20260303T183034Z
UID:10031267-1776087000-1776087900@tracyaviary.org
SUMMARY:Ambassador Bird Demonstration
DESCRIPTION:
URL:https://tracyaviary.org/liberty-park/event/ambassador-bird-demonstration-2/2026-04-13/
CATEGORIES:Daily
END:VEVENT
BEGIN:VEVENT
DTSTART;TZID=UTC:20260414T110000
DTEND;TZID=UTC:20260414T111500
DTSTAMP:20260310T160253
CREATED:20260306T163820Z
LAST-MODIFIED:20260306T163820Z
UID:10032716-1776164400-1776165300@tracyaviary.org
SUMMARY:Ambassador Bird Demonstration
DESCRIPTION:
URL:https://tracyaviary.org/liberty-park/event/ambassador-bird-demonstration/2026-04-14/
CATEGORIES:Daily
END:VEVENT
BEGIN:VEVENT
DTSTART;TZID=UTC:20260414T133000
DTEND;TZID=UTC:20260414T134500
DTSTAMP:20260310T160253
CREATED:20260303T183034Z
LAST-MODIFIED:20260303T183034Z
UID:10031268-1776173400-1776174300@tracyaviary.org
SUMMARY:Ambassador Bird Demonstration
DESCRIPTION:
URL:https://tracyaviary.org/liberty-park/event/ambassador-bird-demonstration-2/2026-04-14/
CATEGORIES:Daily
END:VEVENT
BEGIN:VEVENT
DTSTART;TZID=UTC:20260415T100000
DTEND;TZID=UTC:20260415T110000
DTSTAMP:20260310T160253
CREATED:20260108T190824Z
LAST-MODIFIED:20260108T190930Z
UID:10029583-1776247200-1776250800@tracyaviary.org
SUMMARY:The Shoshone Plant Experience
DESCRIPTION:Join us for our monthly plant walk series\, The Shoshone Plant Experience\, with Rios Pacheco! Rios is Northwest Shoshone/Kewa Pueblo and will be sharing the NWB Shoshone language and his extensive knowledge\, ranging from traditional uses for native plants in medicine and food to the construction of shelters. Learn the stories of the NWB Shoshone migration routes\, from gathering plants in wetlands and in the mountains. This will be a three part series with various topics covered. \nHappening every 3rd Wednesday of the month. Walk participants will meet at the Tracy Aviary gift shop. Free with admission!
URL:https://tracyaviary.org/liberty-park/event/the-shoshone-plant-experience/2026-04-15/
ATTACH;FMTTYPE=image/png:https://tracyaviary.org/liberty-park/wp-content/uploads/sites/2/2025/06/Shoshone-Ethnobotany-1.png
END:VEVENT
BEGIN:VEVENT
DTSTART;TZID=UTC:20260415T110000
DTEND;TZID=UTC:20260415T111500
DTSTAMP:20260310T160253
CREATED:20260306T163820Z
LAST-MODIFIED:20260306T163820Z
UID:10032717-1776250800-1776251700@tracyaviary.org
SUMMARY:Ambassador Bird Demonstration
DESCRIPTION:
URL:https://tracyaviary.org/liberty-park/event/ambassador-bird-demonstration/2026-04-15/
CATEGORIES:Daily
END:VEVENT
BEGIN:VEVENT
DTSTART;TZID=UTC:20260415T133000
DTEND;TZID=UTC:20260415T134500
DTSTAMP:20260310T160253
CREATED:20260303T183034Z
LAST-MODIFIED:20260303T183034Z
UID:10031269-1776259800-1776260700@tracyaviary.org
SUMMARY:Ambassador Bird Demonstration
DESCRIPTION:
URL:https://tracyaviary.org/liberty-park/event/ambassador-bird-demonstration-2/2026-04-15/
CATEGORIES:Daily
END:VEVENT
BEGIN:VEVENT
DTSTART;TZID=UTC:20260416T110000
DTEND;TZID=UTC:20260416T111500
DTSTAMP:20260310T160253
CREATED:20260306T163820Z
LAST-MODIFIED:20260306T163820Z
UID:10032718-1776337200-1776338100@tracyaviary.org
SUMMARY:Ambassador Bird Demonstration
DESCRIPTION:
URL:https://tracyaviary.org/liberty-park/event/ambassador-bird-demonstration/2026-04-16/
CATEGORIES:Daily
END:VEVENT
BEGIN:VEVENT
DTSTART;TZID=UTC:20260416T133000
DTEND;TZID=UTC:20260416T134500
DTSTAMP:20260310T160253
CREATED:20260303T183034Z
LAST-MODIFIED:20260303T183034Z
UID:10031270-1776346200-1776347100@tracyaviary.org
SUMMARY:Ambassador Bird Demonstration
DESCRIPTION:
URL:https://tracyaviary.org/liberty-park/event/ambassador-bird-demonstration-2/2026-04-16/
CATEGORIES:Daily
END:VEVENT
BEGIN:VEVENT
DTSTART;TZID=UTC:20260416T180000
DTEND;TZID=UTC:20260416T193000
DTSTAMP:20260310T160253
CREATED:20251223T085713Z
LAST-MODIFIED:20251223T090226Z
UID:10029550-1776362400-1776367800@tracyaviary.org
SUMMARY:Wine Takes Flight
DESCRIPTION:In partnership with Eat Drink SLC\, each month we host a fun evening of wine education hosted by Jim Santangelo\, owner\, and Sommelier of Wine Academy of Utah. \nWine Takes Flight\nThursday from 6:00 – 7:30 pm \nThis event includes three beverages\, a special arrival pour\, and finger foods.  All while raising a glass to the birds at Tracy Aviary! \n \n\nIt will be inside the Chase Mill.\nGuests must be at least 21 years or older to attend this event. Please remember to bring your ID.\n\n\nRefunds: Due to the limited capacity and high demand for these events\, refunds are available if cancellation is made 48 hours in advance of the event. Please email us if you need to cancel. \n**In the case that this event is sold out\, feel free to email events@tracyaviary.org to be put on the event’s waitlist.**
URL:https://tracyaviary.org/liberty-park/event/wine-takes-flight-4/2026-04-16/
LOCATION:Chase Mill at Tracy Aviary\, 589 East 1300 South\, Salt Lake City\, 84105\, United States
ATTACH;FMTTYPE=image/png:https://tracyaviary.org/liberty-park/wp-content/uploads/sites/2/2022/10/Weekend-Forecast-2500-×-2500-px.png
END:VEVENT
BEGIN:VEVENT
DTSTART;TZID=UTC:20260417T110000
DTEND;TZID=UTC:20260417T113000
DTSTAMP:20260310T160253
CREATED:20250905T204557Z
LAST-MODIFIED:20250909T170556Z
UID:10018412-1776423600-1776425400@tracyaviary.org
SUMMARY:Bird Show
DESCRIPTION:
URL:https://tracyaviary.org/liberty-park/event/bird-shows-2-2-2-2-3/2026-04-17/
CATEGORIES:Daily
END:VEVENT
BEGIN:VEVENT
DTSTART;TZID=UTC:20260417T133000
DTEND;TZID=UTC:20260417T134500
DTSTAMP:20260310T160253
CREATED:20260303T183034Z
LAST-MODIFIED:20260303T183034Z
UID:10031271-1776432600-1776433500@tracyaviary.org
SUMMARY:Ambassador Bird Demonstration
DESCRIPTION:
URL:https://tracyaviary.org/liberty-park/event/ambassador-bird-demonstration-2/2026-04-17/
CATEGORIES:Daily
END:VEVENT
BEGIN:VEVENT
DTSTART;TZID=UTC:20260418T110000
DTEND;TZID=UTC:20260418T113000
DTSTAMP:20260310T160253
CREATED:20250905T204557Z
LAST-MODIFIED:20250909T170556Z
UID:10018413-1776510000-1776511800@tracyaviary.org
SUMMARY:Bird Show
DESCRIPTION:
URL:https://tracyaviary.org/liberty-park/event/bird-shows-2-2-2-2-3/2026-04-18/
CATEGORIES:Daily
END:VEVENT
BEGIN:VEVENT
DTSTART;TZID=UTC:20260418T133000
DTEND;TZID=UTC:20260418T134500
DTSTAMP:20260310T160253
CREATED:20260303T183034Z
LAST-MODIFIED:20260303T183034Z
UID:10031272-1776519000-1776519900@tracyaviary.org
SUMMARY:Ambassador Bird Demonstration
DESCRIPTION:
URL:https://tracyaviary.org/liberty-park/event/ambassador-bird-demonstration-2/2026-04-18/
CATEGORIES:Daily
END:VEVENT
BEGIN:VEVENT
DTSTART;TZID=UTC:20260419T110000
DTEND;TZID=UTC:20260419T111500
DTSTAMP:20260310T160253
CREATED:20260306T163820Z
LAST-MODIFIED:20260306T163820Z
UID:10032719-1776596400-1776597300@tracyaviary.org
SUMMARY:Ambassador Bird Demonstration
DESCRIPTION:
URL:https://tracyaviary.org/liberty-park/event/ambassador-bird-demonstration/2026-04-19/
CATEGORIES:Daily
END:VEVENT
BEGIN:VEVENT
DTSTART;TZID=UTC:20260419T133000
DTEND;TZID=UTC:20260419T134500
DTSTAMP:20260310T160253
CREATED:20260303T183034Z
LAST-MODIFIED:20260303T183034Z
UID:10031273-1776605400-1776606300@tracyaviary.org
SUMMARY:Ambassador Bird Demonstration
DESCRIPTION:
URL:https://tracyaviary.org/liberty-park/event/ambassador-bird-demonstration-2/2026-04-19/
CATEGORIES:Daily
END:VEVENT
BEGIN:VEVENT
DTSTART;TZID=UTC:20260420T110000
DTEND;TZID=UTC:20260420T111500
DTSTAMP:20260310T160253
CREATED:20260306T163820Z
LAST-MODIFIED:20260306T163820Z
UID:10032720-1776682800-1776683700@tracyaviary.org
SUMMARY:Ambassador Bird Demonstration
DESCRIPTION:
URL:https://tracyaviary.org/liberty-park/event/ambassador-bird-demonstration/2026-04-20/
CATEGORIES:Daily
END:VEVENT
BEGIN:VEVENT
DTSTART;TZID=UTC:20260420T124500
DTEND;TZID=UTC:20260420T130000
DTSTAMP:20260310T160253
CREATED:20260213T153845Z
LAST-MODIFIED:20260213T153846Z
UID:10024859-1776689100-1776690000@tracyaviary.org
SUMMARY:Plant Tour
DESCRIPTION:
URL:https://tracyaviary.org/liberty-park/event/plant-tour-2-2/2026-04-20/
CATEGORIES:Daily
END:VEVENT
BEGIN:VEVENT
DTSTART;TZID=UTC:20260420T133000
DTEND;TZID=UTC:20260420T134500
DTSTAMP:20260310T160253
CREATED:20260303T183034Z
LAST-MODIFIED:20260303T183034Z
UID:10031274-1776691800-1776692700@tracyaviary.org
SUMMARY:Ambassador Bird Demonstration
DESCRIPTION:
URL:https://tracyaviary.org/liberty-park/event/ambassador-bird-demonstration-2/2026-04-20/
CATEGORIES:Daily
END:VEVENT
BEGIN:VEVENT
DTSTART;TZID=UTC:20260421T110000
DTEND;TZID=UTC:20260421T111500
DTSTAMP:20260310T160253
CREATED:20260306T163820Z
LAST-MODIFIED:20260306T163820Z
UID:10032721-1776769200-1776770100@tracyaviary.org
SUMMARY:Ambassador Bird Demonstration
DESCRIPTION:
URL:https://tracyaviary.org/liberty-park/event/ambassador-bird-demonstration/2026-04-21/
CATEGORIES:Daily
END:VEVENT
BEGIN:VEVENT
DTSTART;TZID=UTC:20260421T133000
DTEND;TZID=UTC:20260421T134500
DTSTAMP:20260310T160253
CREATED:20260303T183034Z
LAST-MODIFIED:20260303T183034Z
UID:10031275-1776778200-1776779100@tracyaviary.org
SUMMARY:Ambassador Bird Demonstration
DESCRIPTION:
URL:https://tracyaviary.org/liberty-park/event/ambassador-bird-demonstration-2/2026-04-21/
CATEGORIES:Daily
END:VEVENT
END:VCALENDAR