BEGIN:VCALENDAR
VERSION:2.0
PRODID:-//Liberty Park - ECPv6.15.18//NONSGML v1.0//EN
CALSCALE:GREGORIAN
METHOD:PUBLISH
X-ORIGINAL-URL:https://tracyaviary.org/liberty-park
X-WR-CALDESC:Events for Liberty Park
REFRESH-INTERVAL;VALUE=DURATION:PT1H
X-Robots-Tag:noindex
X-PUBLISHED-TTL:PT1H
BEGIN:VTIMEZONE
TZID:UTC
BEGIN:STANDARD
TZOFFSETFROM:+0000
TZOFFSETTO:+0000
TZNAME:UTC
DTSTART:20250101T000000
END:STANDARD
END:VTIMEZONE
BEGIN:VEVENT
DTSTART;TZID=UTC:20260918T133000
DTEND;TZID=UTC:20260918T135000
DTSTAMP:20260407T183744
CREATED:20260403T213740Z
LAST-MODIFIED:20260403T213755Z
UID:10035261-1789738200-1789739400@tracyaviary.org
SUMMARY:Indoor Bird Show
DESCRIPTION:
URL:https://tracyaviary.org/liberty-park/event/indoor-bird-show/2026-09-18/
CATEGORIES:Daily
END:VEVENT
BEGIN:VEVENT
DTSTART;TZID=UTC:20260919T110000
DTEND;TZID=UTC:20260919T113000
DTSTAMP:20260407T183744
CREATED:20260403T212922Z
LAST-MODIFIED:20260403T212925Z
UID:10018545-1789815600-1789817400@tracyaviary.org
SUMMARY:Outdoor Bird Show
DESCRIPTION:
URL:https://tracyaviary.org/liberty-park/event/bird-shows-2-2-2-2-3-2/2026-09-19/
CATEGORIES:Daily
END:VEVENT
BEGIN:VEVENT
DTSTART;TZID=UTC:20260919T133000
DTEND;TZID=UTC:20260919T134500
DTSTAMP:20260407T183744
CREATED:20260303T183034Z
LAST-MODIFIED:20260303T183034Z
UID:10031426-1789824600-1789825500@tracyaviary.org
SUMMARY:Ambassador Bird Demonstration
DESCRIPTION:
URL:https://tracyaviary.org/liberty-park/event/ambassador-bird-demonstration-2/2026-09-19/
CATEGORIES:Daily
END:VEVENT
BEGIN:VEVENT
DTSTART;TZID=UTC:20260919T133000
DTEND;TZID=UTC:20260919T135000
DTSTAMP:20260407T183744
CREATED:20260403T213740Z
LAST-MODIFIED:20260403T213755Z
UID:10035262-1789824600-1789825800@tracyaviary.org
SUMMARY:Indoor Bird Show
DESCRIPTION:
URL:https://tracyaviary.org/liberty-park/event/indoor-bird-show/2026-09-19/
CATEGORIES:Daily
END:VEVENT
BEGIN:VEVENT
DTSTART;TZID=UTC:20260920T133000
DTEND;TZID=UTC:20260920T134500
DTSTAMP:20260407T183744
CREATED:20260303T183034Z
LAST-MODIFIED:20260303T183034Z
UID:10031427-1789911000-1789911900@tracyaviary.org
SUMMARY:Ambassador Bird Demonstration
DESCRIPTION:
URL:https://tracyaviary.org/liberty-park/event/ambassador-bird-demonstration-2/2026-09-20/
CATEGORIES:Daily
END:VEVENT
BEGIN:VEVENT
DTSTART;TZID=UTC:20260920T133000
DTEND;TZID=UTC:20260920T135000
DTSTAMP:20260407T183744
CREATED:20260403T213740Z
LAST-MODIFIED:20260403T213755Z
UID:10035263-1789911000-1789912200@tracyaviary.org
SUMMARY:Indoor Bird Show
DESCRIPTION:
URL:https://tracyaviary.org/liberty-park/event/indoor-bird-show/2026-09-20/
CATEGORIES:Daily
END:VEVENT
BEGIN:VEVENT
DTSTART;TZID=UTC:20260921T110000
DTEND;TZID=UTC:20260921T111500
DTSTAMP:20260407T183744
CREATED:20260403T213252Z
LAST-MODIFIED:20260403T213358Z
UID:10035009-1789988400-1789989300@tracyaviary.org
SUMMARY:Ambassador Bird Demonstration
DESCRIPTION:
URL:https://tracyaviary.org/liberty-park/event/ambassador-bird-demonstration-3/2026-09-21/
CATEGORIES:Daily
END:VEVENT
BEGIN:VEVENT
DTSTART;TZID=UTC:20260921T124500
DTEND;TZID=UTC:20260921T130000
DTSTAMP:20260407T183744
CREATED:20260213T153845Z
LAST-MODIFIED:20260213T153846Z
UID:10024881-1789994700-1789995600@tracyaviary.org
SUMMARY:Plant Tour
DESCRIPTION:
URL:https://tracyaviary.org/liberty-park/event/plant-tour-2-2/2026-09-21/
CATEGORIES:Daily
END:VEVENT
BEGIN:VEVENT
DTSTART;TZID=UTC:20260921T133000
DTEND;TZID=UTC:20260921T134500
DTSTAMP:20260407T183744
CREATED:20260303T183034Z
LAST-MODIFIED:20260303T183034Z
UID:10031428-1789997400-1789998300@tracyaviary.org
SUMMARY:Ambassador Bird Demonstration
DESCRIPTION:
URL:https://tracyaviary.org/liberty-park/event/ambassador-bird-demonstration-2/2026-09-21/
CATEGORIES:Daily
END:VEVENT
BEGIN:VEVENT
DTSTART;TZID=UTC:20260922T110000
DTEND;TZID=UTC:20260922T113000
DTSTAMP:20260407T183744
CREATED:20260403T212922Z
LAST-MODIFIED:20260403T212925Z
UID:10033807-1790074800-1790076600@tracyaviary.org
SUMMARY:Outdoor Bird Show
DESCRIPTION:
URL:https://tracyaviary.org/liberty-park/event/bird-shows-2-2-2-2-3-2/2026-09-22/
CATEGORIES:Daily
END:VEVENT
BEGIN:VEVENT
DTSTART;TZID=UTC:20260922T133000
DTEND;TZID=UTC:20260922T134500
DTSTAMP:20260407T183744
CREATED:20260303T183034Z
LAST-MODIFIED:20260303T183034Z
UID:10031429-1790083800-1790084700@tracyaviary.org
SUMMARY:Ambassador Bird Demonstration
DESCRIPTION:
URL:https://tracyaviary.org/liberty-park/event/ambassador-bird-demonstration-2/2026-09-22/
CATEGORIES:Daily
END:VEVENT
BEGIN:VEVENT
DTSTART;TZID=UTC:20260923T110000
DTEND;TZID=UTC:20260923T113000
DTSTAMP:20260407T183744
CREATED:20260403T212922Z
LAST-MODIFIED:20260403T212925Z
UID:10033808-1790161200-1790163000@tracyaviary.org
SUMMARY:Outdoor Bird Show
DESCRIPTION:
URL:https://tracyaviary.org/liberty-park/event/bird-shows-2-2-2-2-3-2/2026-09-23/
CATEGORIES:Daily
END:VEVENT
BEGIN:VEVENT
DTSTART;TZID=UTC:20260923T133000
DTEND;TZID=UTC:20260923T134500
DTSTAMP:20260407T183744
CREATED:20260303T183034Z
LAST-MODIFIED:20260303T183034Z
UID:10031430-1790170200-1790171100@tracyaviary.org
SUMMARY:Ambassador Bird Demonstration
DESCRIPTION:
URL:https://tracyaviary.org/liberty-park/event/ambassador-bird-demonstration-2/2026-09-23/
CATEGORIES:Daily
END:VEVENT
BEGIN:VEVENT
DTSTART;TZID=UTC:20260924T110000
DTEND;TZID=UTC:20260924T113000
DTSTAMP:20260407T183744
CREATED:20260403T212922Z
LAST-MODIFIED:20260403T212925Z
UID:10033809-1790247600-1790249400@tracyaviary.org
SUMMARY:Outdoor Bird Show
DESCRIPTION:
URL:https://tracyaviary.org/liberty-park/event/bird-shows-2-2-2-2-3-2/2026-09-24/
CATEGORIES:Daily
END:VEVENT
BEGIN:VEVENT
DTSTART;TZID=UTC:20260924T133000
DTEND;TZID=UTC:20260924T134500
DTSTAMP:20260407T183744
CREATED:20260303T183034Z
LAST-MODIFIED:20260303T183034Z
UID:10031431-1790256600-1790257500@tracyaviary.org
SUMMARY:Ambassador Bird Demonstration
DESCRIPTION:
URL:https://tracyaviary.org/liberty-park/event/ambassador-bird-demonstration-2/2026-09-24/
CATEGORIES:Daily
END:VEVENT
BEGIN:VEVENT
DTSTART;TZID=UTC:20260925T110000
DTEND;TZID=UTC:20260925T113000
DTSTAMP:20260407T183744
CREATED:20260403T212922Z
LAST-MODIFIED:20260403T212925Z
UID:10018550-1790334000-1790335800@tracyaviary.org
SUMMARY:Outdoor Bird Show
DESCRIPTION:
URL:https://tracyaviary.org/liberty-park/event/bird-shows-2-2-2-2-3-2/2026-09-25/
CATEGORIES:Daily
END:VEVENT
BEGIN:VEVENT
DTSTART;TZID=UTC:20260925T133000
DTEND;TZID=UTC:20260925T134500
DTSTAMP:20260407T183744
CREATED:20260303T183034Z
LAST-MODIFIED:20260303T183034Z
UID:10031432-1790343000-1790343900@tracyaviary.org
SUMMARY:Ambassador Bird Demonstration
DESCRIPTION:
URL:https://tracyaviary.org/liberty-park/event/ambassador-bird-demonstration-2/2026-09-25/
CATEGORIES:Daily
END:VEVENT
BEGIN:VEVENT
DTSTART;TZID=UTC:20260925T133000
DTEND;TZID=UTC:20260925T135000
DTSTAMP:20260407T183744
CREATED:20260403T213740Z
LAST-MODIFIED:20260403T213755Z
UID:10035264-1790343000-1790344200@tracyaviary.org
SUMMARY:Indoor Bird Show
DESCRIPTION:
URL:https://tracyaviary.org/liberty-park/event/indoor-bird-show/2026-09-25/
CATEGORIES:Daily
END:VEVENT
BEGIN:VEVENT
DTSTART;TZID=UTC:20260926T110000
DTEND;TZID=UTC:20260926T113000
DTSTAMP:20260407T183744
CREATED:20260403T212922Z
LAST-MODIFIED:20260403T212925Z
UID:10018551-1790420400-1790422200@tracyaviary.org
SUMMARY:Outdoor Bird Show
DESCRIPTION:
URL:https://tracyaviary.org/liberty-park/event/bird-shows-2-2-2-2-3-2/2026-09-26/
CATEGORIES:Daily
END:VEVENT
BEGIN:VEVENT
DTSTART;TZID=UTC:20260926T133000
DTEND;TZID=UTC:20260926T134500
DTSTAMP:20260407T183744
CREATED:20260303T183034Z
LAST-MODIFIED:20260303T183034Z
UID:10031433-1790429400-1790430300@tracyaviary.org
SUMMARY:Ambassador Bird Demonstration
DESCRIPTION:
URL:https://tracyaviary.org/liberty-park/event/ambassador-bird-demonstration-2/2026-09-26/
CATEGORIES:Daily
END:VEVENT
BEGIN:VEVENT
DTSTART;TZID=UTC:20260926T133000
DTEND;TZID=UTC:20260926T135000
DTSTAMP:20260407T183744
CREATED:20260403T213740Z
LAST-MODIFIED:20260403T213755Z
UID:10035265-1790429400-1790430600@tracyaviary.org
SUMMARY:Indoor Bird Show
DESCRIPTION:
URL:https://tracyaviary.org/liberty-park/event/indoor-bird-show/2026-09-26/
CATEGORIES:Daily
END:VEVENT
BEGIN:VEVENT
DTSTART;TZID=UTC:20260927T133000
DTEND;TZID=UTC:20260927T134500
DTSTAMP:20260407T183744
CREATED:20260303T183034Z
LAST-MODIFIED:20260303T183034Z
UID:10031434-1790515800-1790516700@tracyaviary.org
SUMMARY:Ambassador Bird Demonstration
DESCRIPTION:
URL:https://tracyaviary.org/liberty-park/event/ambassador-bird-demonstration-2/2026-09-27/
CATEGORIES:Daily
END:VEVENT
BEGIN:VEVENT
DTSTART;TZID=UTC:20260927T133000
DTEND;TZID=UTC:20260927T135000
DTSTAMP:20260407T183744
CREATED:20260403T213740Z
LAST-MODIFIED:20260403T213755Z
UID:10035266-1790515800-1790517000@tracyaviary.org
SUMMARY:Indoor Bird Show
DESCRIPTION:
URL:https://tracyaviary.org/liberty-park/event/indoor-bird-show/2026-09-27/
CATEGORIES:Daily
END:VEVENT
BEGIN:VEVENT
DTSTART;TZID=UTC:20260928T110000
DTEND;TZID=UTC:20260928T111500
DTSTAMP:20260407T183744
CREATED:20260403T213252Z
LAST-MODIFIED:20260403T213358Z
UID:10035010-1790593200-1790594100@tracyaviary.org
SUMMARY:Ambassador Bird Demonstration
DESCRIPTION:
URL:https://tracyaviary.org/liberty-park/event/ambassador-bird-demonstration-3/2026-09-28/
CATEGORIES:Daily
END:VEVENT
BEGIN:VEVENT
DTSTART;TZID=UTC:20260928T124500
DTEND;TZID=UTC:20260928T130000
DTSTAMP:20260407T183744
CREATED:20260213T153845Z
LAST-MODIFIED:20260213T153846Z
UID:10024882-1790599500-1790600400@tracyaviary.org
SUMMARY:Plant Tour
DESCRIPTION:
URL:https://tracyaviary.org/liberty-park/event/plant-tour-2-2/2026-09-28/
CATEGORIES:Daily
END:VEVENT
BEGIN:VEVENT
DTSTART;TZID=UTC:20260928T133000
DTEND;TZID=UTC:20260928T134500
DTSTAMP:20260407T183744
CREATED:20260303T183034Z
LAST-MODIFIED:20260303T183034Z
UID:10031435-1790602200-1790603100@tracyaviary.org
SUMMARY:Ambassador Bird Demonstration
DESCRIPTION:
URL:https://tracyaviary.org/liberty-park/event/ambassador-bird-demonstration-2/2026-09-28/
CATEGORIES:Daily
END:VEVENT
BEGIN:VEVENT
DTSTART;TZID=UTC:20260929T110000
DTEND;TZID=UTC:20260929T113000
DTSTAMP:20260407T183744
CREATED:20260403T212922Z
LAST-MODIFIED:20260403T212925Z
UID:10033810-1790679600-1790681400@tracyaviary.org
SUMMARY:Outdoor Bird Show
DESCRIPTION:
URL:https://tracyaviary.org/liberty-park/event/bird-shows-2-2-2-2-3-2/2026-09-29/
CATEGORIES:Daily
END:VEVENT
BEGIN:VEVENT
DTSTART;TZID=UTC:20260929T133000
DTEND;TZID=UTC:20260929T134500
DTSTAMP:20260407T183744
CREATED:20260303T183034Z
LAST-MODIFIED:20260303T183034Z
UID:10031436-1790688600-1790689500@tracyaviary.org
SUMMARY:Ambassador Bird Demonstration
DESCRIPTION:
URL:https://tracyaviary.org/liberty-park/event/ambassador-bird-demonstration-2/2026-09-29/
CATEGORIES:Daily
END:VEVENT
BEGIN:VEVENT
DTSTART;TZID=UTC:20260930T110000
DTEND;TZID=UTC:20260930T113000
DTSTAMP:20260407T183744
CREATED:20260403T212922Z
LAST-MODIFIED:20260403T212925Z
UID:10033811-1790766000-1790767800@tracyaviary.org
SUMMARY:Outdoor Bird Show
DESCRIPTION:
URL:https://tracyaviary.org/liberty-park/event/bird-shows-2-2-2-2-3-2/2026-09-30/
CATEGORIES:Daily
END:VEVENT
BEGIN:VEVENT
DTSTART;TZID=UTC:20260930T133000
DTEND;TZID=UTC:20260930T134500
DTSTAMP:20260407T183744
CREATED:20260303T183034Z
LAST-MODIFIED:20260303T183034Z
UID:10031437-1790775000-1790775900@tracyaviary.org
SUMMARY:Ambassador Bird Demonstration
DESCRIPTION:
URL:https://tracyaviary.org/liberty-park/event/ambassador-bird-demonstration-2/2026-09-30/
CATEGORIES:Daily
END:VEVENT
END:VCALENDAR