BEGIN:VCALENDAR
VERSION:2.0
PRODID:-//Liberty Park - ECPv6.15.20//NONSGML v1.0//EN
CALSCALE:GREGORIAN
METHOD:PUBLISH
X-ORIGINAL-URL:https://tracyaviary.org/liberty-park
X-WR-CALDESC:Events for Liberty Park
REFRESH-INTERVAL;VALUE=DURATION:PT1H
X-Robots-Tag:noindex
X-PUBLISHED-TTL:PT1H
BEGIN:VTIMEZONE
TZID:UTC
BEGIN:STANDARD
TZOFFSETFROM:+0000
TZOFFSETTO:+0000
TZNAME:UTC
DTSTART:20260101T000000
END:STANDARD
END:VTIMEZONE
BEGIN:VEVENT
DTSTART;TZID=UTC:20270310T110000
DTEND;TZID=UTC:20270310T113000
DTSTAMP:20260426T020535
CREATED:20260403T212922Z
LAST-MODIFIED:20260403T212925Z
UID:10033880-1804676400-1804678200@tracyaviary.org
SUMMARY:Outdoor Bird Show
DESCRIPTION:
URL:https://tracyaviary.org/liberty-park/event/bird-shows-2-2-2-2-3-2/2027-03-10/
CATEGORIES:Daily
END:VEVENT
BEGIN:VEVENT
DTSTART;TZID=UTC:20270311T110000
DTEND;TZID=UTC:20270311T113000
DTSTAMP:20260426T020535
CREATED:20260403T212922Z
LAST-MODIFIED:20260403T212925Z
UID:10033881-1804762800-1804764600@tracyaviary.org
SUMMARY:Outdoor Bird Show
DESCRIPTION:
URL:https://tracyaviary.org/liberty-park/event/bird-shows-2-2-2-2-3-2/2027-03-11/
CATEGORIES:Daily
END:VEVENT
BEGIN:VEVENT
DTSTART;TZID=UTC:20270312T110000
DTEND;TZID=UTC:20270312T113000
DTSTAMP:20260426T020535
CREATED:20260403T212922Z
LAST-MODIFIED:20260403T212925Z
UID:10018694-1804849200-1804851000@tracyaviary.org
SUMMARY:Outdoor Bird Show
DESCRIPTION:
URL:https://tracyaviary.org/liberty-park/event/bird-shows-2-2-2-2-3-2/2027-03-12/
CATEGORIES:Daily
END:VEVENT
BEGIN:VEVENT
DTSTART;TZID=UTC:20270313T110000
DTEND;TZID=UTC:20270313T113000
DTSTAMP:20260426T020535
CREATED:20260403T212922Z
LAST-MODIFIED:20260403T212925Z
UID:10018695-1804935600-1804937400@tracyaviary.org
SUMMARY:Outdoor Bird Show
DESCRIPTION:
URL:https://tracyaviary.org/liberty-park/event/bird-shows-2-2-2-2-3-2/2027-03-13/
CATEGORIES:Daily
END:VEVENT
BEGIN:VEVENT
DTSTART;TZID=UTC:20270315T110000
DTEND;TZID=UTC:20270315T111500
DTSTAMP:20260426T020535
CREATED:20260403T213252Z
LAST-MODIFIED:20260403T213358Z
UID:10035034-1805108400-1805109300@tracyaviary.org
SUMMARY:Ambassador Bird Demonstration
DESCRIPTION:
URL:https://tracyaviary.org/liberty-park/event/ambassador-bird-demonstration-3/2027-03-15/
CATEGORIES:Daily
END:VEVENT
BEGIN:VEVENT
DTSTART;TZID=UTC:20270315T124500
DTEND;TZID=UTC:20270315T130000
DTSTAMP:20260426T020535
CREATED:20260213T153845Z
LAST-MODIFIED:20260213T153846Z
UID:10024906-1805114700-1805115600@tracyaviary.org
SUMMARY:Plant Tour
DESCRIPTION:
URL:https://tracyaviary.org/liberty-park/event/plant-tour-2-2/2027-03-15/
CATEGORIES:Daily
END:VEVENT
BEGIN:VEVENT
DTSTART;TZID=UTC:20270316T110000
DTEND;TZID=UTC:20270316T113000
DTSTAMP:20260426T020535
CREATED:20260403T212922Z
LAST-MODIFIED:20260403T212925Z
UID:10033882-1805194800-1805196600@tracyaviary.org
SUMMARY:Outdoor Bird Show
DESCRIPTION:
URL:https://tracyaviary.org/liberty-park/event/bird-shows-2-2-2-2-3-2/2027-03-16/
CATEGORIES:Daily
END:VEVENT
BEGIN:VEVENT
DTSTART;TZID=UTC:20270317T110000
DTEND;TZID=UTC:20270317T113000
DTSTAMP:20260426T020535
CREATED:20260403T212922Z
LAST-MODIFIED:20260403T212925Z
UID:10033883-1805281200-1805283000@tracyaviary.org
SUMMARY:Outdoor Bird Show
DESCRIPTION:
URL:https://tracyaviary.org/liberty-park/event/bird-shows-2-2-2-2-3-2/2027-03-17/
CATEGORIES:Daily
END:VEVENT
BEGIN:VEVENT
DTSTART;TZID=UTC:20270318T110000
DTEND;TZID=UTC:20270318T113000
DTSTAMP:20260426T020535
CREATED:20260403T212922Z
LAST-MODIFIED:20260403T212925Z
UID:10033884-1805367600-1805369400@tracyaviary.org
SUMMARY:Outdoor Bird Show
DESCRIPTION:
URL:https://tracyaviary.org/liberty-park/event/bird-shows-2-2-2-2-3-2/2027-03-18/
CATEGORIES:Daily
END:VEVENT
BEGIN:VEVENT
DTSTART;TZID=UTC:20270319T110000
DTEND;TZID=UTC:20270319T113000
DTSTAMP:20260426T020535
CREATED:20260403T212922Z
LAST-MODIFIED:20260403T212925Z
UID:10018700-1805454000-1805455800@tracyaviary.org
SUMMARY:Outdoor Bird Show
DESCRIPTION:
URL:https://tracyaviary.org/liberty-park/event/bird-shows-2-2-2-2-3-2/2027-03-19/
CATEGORIES:Daily
END:VEVENT
BEGIN:VEVENT
DTSTART;TZID=UTC:20270320T110000
DTEND;TZID=UTC:20270320T113000
DTSTAMP:20260426T020535
CREATED:20260403T212922Z
LAST-MODIFIED:20260403T212925Z
UID:10018701-1805540400-1805542200@tracyaviary.org
SUMMARY:Outdoor Bird Show
DESCRIPTION:
URL:https://tracyaviary.org/liberty-park/event/bird-shows-2-2-2-2-3-2/2027-03-20/
CATEGORIES:Daily
END:VEVENT
BEGIN:VEVENT
DTSTART;TZID=UTC:20270322T110000
DTEND;TZID=UTC:20270322T111500
DTSTAMP:20260426T020535
CREATED:20260403T213252Z
LAST-MODIFIED:20260403T213358Z
UID:10035035-1805713200-1805714100@tracyaviary.org
SUMMARY:Ambassador Bird Demonstration
DESCRIPTION:
URL:https://tracyaviary.org/liberty-park/event/ambassador-bird-demonstration-3/2027-03-22/
CATEGORIES:Daily
END:VEVENT
BEGIN:VEVENT
DTSTART;TZID=UTC:20270322T124500
DTEND;TZID=UTC:20270322T130000
DTSTAMP:20260426T020535
CREATED:20260213T153845Z
LAST-MODIFIED:20260213T153846Z
UID:10024907-1805719500-1805720400@tracyaviary.org
SUMMARY:Plant Tour
DESCRIPTION:
URL:https://tracyaviary.org/liberty-park/event/plant-tour-2-2/2027-03-22/
CATEGORIES:Daily
END:VEVENT
BEGIN:VEVENT
DTSTART;TZID=UTC:20270323T110000
DTEND;TZID=UTC:20270323T113000
DTSTAMP:20260426T020535
CREATED:20260403T212922Z
LAST-MODIFIED:20260403T212925Z
UID:10033885-1805799600-1805801400@tracyaviary.org
SUMMARY:Outdoor Bird Show
DESCRIPTION:
URL:https://tracyaviary.org/liberty-park/event/bird-shows-2-2-2-2-3-2/2027-03-23/
CATEGORIES:Daily
END:VEVENT
BEGIN:VEVENT
DTSTART;TZID=UTC:20270324T110000
DTEND;TZID=UTC:20270324T113000
DTSTAMP:20260426T020535
CREATED:20260403T212922Z
LAST-MODIFIED:20260403T212925Z
UID:10033886-1805886000-1805887800@tracyaviary.org
SUMMARY:Outdoor Bird Show
DESCRIPTION:
URL:https://tracyaviary.org/liberty-park/event/bird-shows-2-2-2-2-3-2/2027-03-24/
CATEGORIES:Daily
END:VEVENT
BEGIN:VEVENT
DTSTART;TZID=UTC:20270325T110000
DTEND;TZID=UTC:20270325T113000
DTSTAMP:20260426T020535
CREATED:20260403T212922Z
LAST-MODIFIED:20260403T212925Z
UID:10033887-1805972400-1805974200@tracyaviary.org
SUMMARY:Outdoor Bird Show
DESCRIPTION:
URL:https://tracyaviary.org/liberty-park/event/bird-shows-2-2-2-2-3-2/2027-03-25/
CATEGORIES:Daily
END:VEVENT
BEGIN:VEVENT
DTSTART;TZID=UTC:20270326T110000
DTEND;TZID=UTC:20270326T113000
DTSTAMP:20260426T020535
CREATED:20260403T212922Z
LAST-MODIFIED:20260403T212925Z
UID:10018706-1806058800-1806060600@tracyaviary.org
SUMMARY:Outdoor Bird Show
DESCRIPTION:
URL:https://tracyaviary.org/liberty-park/event/bird-shows-2-2-2-2-3-2/2027-03-26/
CATEGORIES:Daily
END:VEVENT
BEGIN:VEVENT
DTSTART;TZID=UTC:20270327T110000
DTEND;TZID=UTC:20270327T113000
DTSTAMP:20260426T020535
CREATED:20260403T212922Z
LAST-MODIFIED:20260403T212925Z
UID:10018707-1806145200-1806147000@tracyaviary.org
SUMMARY:Outdoor Bird Show
DESCRIPTION:
URL:https://tracyaviary.org/liberty-park/event/bird-shows-2-2-2-2-3-2/2027-03-27/
CATEGORIES:Daily
END:VEVENT
BEGIN:VEVENT
DTSTART;TZID=UTC:20270329T110000
DTEND;TZID=UTC:20270329T111500
DTSTAMP:20260426T020535
CREATED:20260403T213252Z
LAST-MODIFIED:20260403T213358Z
UID:10035036-1806318000-1806318900@tracyaviary.org
SUMMARY:Ambassador Bird Demonstration
DESCRIPTION:
URL:https://tracyaviary.org/liberty-park/event/ambassador-bird-demonstration-3/2027-03-29/
CATEGORIES:Daily
END:VEVENT
BEGIN:VEVENT
DTSTART;TZID=UTC:20270329T124500
DTEND;TZID=UTC:20270329T130000
DTSTAMP:20260426T020535
CREATED:20260213T153845Z
LAST-MODIFIED:20260213T153846Z
UID:10024908-1806324300-1806325200@tracyaviary.org
SUMMARY:Plant Tour
DESCRIPTION:
URL:https://tracyaviary.org/liberty-park/event/plant-tour-2-2/2027-03-29/
CATEGORIES:Daily
END:VEVENT
BEGIN:VEVENT
DTSTART;TZID=UTC:20270330T110000
DTEND;TZID=UTC:20270330T113000
DTSTAMP:20260426T020535
CREATED:20260403T212922Z
LAST-MODIFIED:20260403T212925Z
UID:10033888-1806404400-1806406200@tracyaviary.org
SUMMARY:Outdoor Bird Show
DESCRIPTION:
URL:https://tracyaviary.org/liberty-park/event/bird-shows-2-2-2-2-3-2/2027-03-30/
CATEGORIES:Daily
END:VEVENT
BEGIN:VEVENT
DTSTART;TZID=UTC:20270331T110000
DTEND;TZID=UTC:20270331T113000
DTSTAMP:20260426T020535
CREATED:20260403T212922Z
LAST-MODIFIED:20260403T212925Z
UID:10033889-1806490800-1806492600@tracyaviary.org
SUMMARY:Outdoor Bird Show
DESCRIPTION:
URL:https://tracyaviary.org/liberty-park/event/bird-shows-2-2-2-2-3-2/2027-03-31/
CATEGORIES:Daily
END:VEVENT
BEGIN:VEVENT
DTSTART;TZID=UTC:20270401T110000
DTEND;TZID=UTC:20270401T113000
DTSTAMP:20260426T020535
CREATED:20260403T212922Z
LAST-MODIFIED:20260403T212925Z
UID:10033890-1806577200-1806579000@tracyaviary.org
SUMMARY:Outdoor Bird Show
DESCRIPTION:
URL:https://tracyaviary.org/liberty-park/event/bird-shows-2-2-2-2-3-2/2027-04-01/
CATEGORIES:Daily
END:VEVENT
BEGIN:VEVENT
DTSTART;TZID=UTC:20270402T110000
DTEND;TZID=UTC:20270402T113000
DTSTAMP:20260426T020535
CREATED:20260403T212922Z
LAST-MODIFIED:20260403T212925Z
UID:10018712-1806663600-1806665400@tracyaviary.org
SUMMARY:Outdoor Bird Show
DESCRIPTION:
URL:https://tracyaviary.org/liberty-park/event/bird-shows-2-2-2-2-3-2/2027-04-02/
CATEGORIES:Daily
END:VEVENT
BEGIN:VEVENT
DTSTART;TZID=UTC:20270403T110000
DTEND;TZID=UTC:20270403T113000
DTSTAMP:20260426T020535
CREATED:20260403T212922Z
LAST-MODIFIED:20260403T212925Z
UID:10018713-1806750000-1806751800@tracyaviary.org
SUMMARY:Outdoor Bird Show
DESCRIPTION:
URL:https://tracyaviary.org/liberty-park/event/bird-shows-2-2-2-2-3-2/2027-04-03/
CATEGORIES:Daily
END:VEVENT
BEGIN:VEVENT
DTSTART;TZID=UTC:20270405T110000
DTEND;TZID=UTC:20270405T111500
DTSTAMP:20260426T020535
CREATED:20260403T213252Z
LAST-MODIFIED:20260403T213358Z
UID:10035037-1806922800-1806923700@tracyaviary.org
SUMMARY:Ambassador Bird Demonstration
DESCRIPTION:
URL:https://tracyaviary.org/liberty-park/event/ambassador-bird-demonstration-3/2027-04-05/
CATEGORIES:Daily
END:VEVENT
BEGIN:VEVENT
DTSTART;TZID=UTC:20270405T124500
DTEND;TZID=UTC:20270405T130000
DTSTAMP:20260426T020535
CREATED:20260213T153845Z
LAST-MODIFIED:20260213T153846Z
UID:10024909-1806929100-1806930000@tracyaviary.org
SUMMARY:Plant Tour
DESCRIPTION:
URL:https://tracyaviary.org/liberty-park/event/plant-tour-2-2/2027-04-05/
CATEGORIES:Daily
END:VEVENT
BEGIN:VEVENT
DTSTART;TZID=UTC:20270406T110000
DTEND;TZID=UTC:20270406T113000
DTSTAMP:20260426T020535
CREATED:20260403T212922Z
LAST-MODIFIED:20260403T212925Z
UID:10033891-1807009200-1807011000@tracyaviary.org
SUMMARY:Outdoor Bird Show
DESCRIPTION:
URL:https://tracyaviary.org/liberty-park/event/bird-shows-2-2-2-2-3-2/2027-04-06/
CATEGORIES:Daily
END:VEVENT
BEGIN:VEVENT
DTSTART;TZID=UTC:20270407T110000
DTEND;TZID=UTC:20270407T113000
DTSTAMP:20260426T020535
CREATED:20260403T212922Z
LAST-MODIFIED:20260403T212925Z
UID:10033892-1807095600-1807097400@tracyaviary.org
SUMMARY:Outdoor Bird Show
DESCRIPTION:
URL:https://tracyaviary.org/liberty-park/event/bird-shows-2-2-2-2-3-2/2027-04-07/
CATEGORIES:Daily
END:VEVENT
BEGIN:VEVENT
DTSTART;TZID=UTC:20270408T110000
DTEND;TZID=UTC:20270408T113000
DTSTAMP:20260426T020535
CREATED:20260403T212922Z
LAST-MODIFIED:20260403T212925Z
UID:10033893-1807182000-1807183800@tracyaviary.org
SUMMARY:Outdoor Bird Show
DESCRIPTION:
URL:https://tracyaviary.org/liberty-park/event/bird-shows-2-2-2-2-3-2/2027-04-08/
CATEGORIES:Daily
END:VEVENT
END:VCALENDAR