BEGIN:VCALENDAR
VERSION:2.0
PRODID:-//Nature Center at Pia Okwai - ECPv6.15.20//NONSGML v1.0//EN
CALSCALE:GREGORIAN
METHOD:PUBLISH
X-ORIGINAL-URL:https://tracyaviary.org/nature-center
X-WR-CALDESC:Events for Nature Center at Pia Okwai
REFRESH-INTERVAL;VALUE=DURATION:PT1H
X-Robots-Tag:noindex
X-PUBLISHED-TTL:PT1H
BEGIN:VTIMEZONE
TZID:UTC
BEGIN:STANDARD
TZOFFSETFROM:+0000
TZOFFSETTO:+0000
TZNAME:UTC
DTSTART:20230101T000000
END:STANDARD
END:VTIMEZONE
BEGIN:VEVENT
DTSTART;TZID=UTC:20240810T090000
DTEND;TZID=UTC:20240810T100000
DTSTAMP:20260423T133651
CREATED:20231102T214951Z
LAST-MODIFIED:20240628T213425Z
UID:10000785-1723280400-1723284000@tracyaviary.org
SUMMARY:Nature Walk
DESCRIPTION:Join our nature center team for a relaxed walk on the Pia Okwia (Jordan River)! Each week will feature a different focus- insects\, birds\, mammals\, and more!
URL:https://tracyaviary.org/nature-center/event-calendar/nature-walk-2/2024-08-10/
ATTACH;FMTTYPE=image/png:https://tracyaviary.org/nature-center/wp-content/uploads/sites/3/2023/11/2024-Social-Media-68.png
END:VEVENT
END:VCALENDAR