BEGIN:VCALENDAR
VERSION:2.0
PRODID:-//Nature Center at Pia Okwai - ECPv6.15.18//NONSGML v1.0//EN
CALSCALE:GREGORIAN
METHOD:PUBLISH
X-ORIGINAL-URL:https://tracyaviary.org/nature-center
X-WR-CALDESC:Events for Nature Center at Pia Okwai
REFRESH-INTERVAL;VALUE=DURATION:PT1H
X-Robots-Tag:noindex
X-PUBLISHED-TTL:PT1H
BEGIN:VTIMEZONE
TZID:UTC
BEGIN:STANDARD
TZOFFSETFROM:+0000
TZOFFSETTO:+0000
TZNAME:UTC
DTSTART:20230101T000000
END:STANDARD
END:VTIMEZONE
BEGIN:VEVENT
DTSTART;TZID=UTC:20240823T070000
DTEND;TZID=UTC:20240823T090000
DTSTAMP:20260407T153717
CREATED:20230713T180532Z
LAST-MODIFIED:20230713T180532Z
UID:10000316-1724396400-1724403600@tracyaviary.org
SUMMARY:Bird Surveys with Our Conservation Team
DESCRIPTION:Join a member of Tracy Aviary’s conservation team for a weekly bird walk! All skill levels welcome. Registration is required.
URL:https://tracyaviary.org/nature-center/event-calendar/bird-surveys-with-our-conservation-team/2024-08-23/
LOCATION:Tracy Aviary’s Nature Center at Pia Okwai\, 1125 W 3300\, South Salt Lake\, UT\, 8411584119\, United States
END:VEVENT
END:VCALENDAR