BEGIN:VCALENDAR
VERSION:2.0
PRODID:-//Nature Center at Pia Okwai - ECPv6.15.20//NONSGML v1.0//EN
CALSCALE:GREGORIAN
METHOD:PUBLISH
X-ORIGINAL-URL:https://tracyaviary.org/nature-center
X-WR-CALDESC:Events for Nature Center at Pia Okwai
REFRESH-INTERVAL;VALUE=DURATION:PT1H
X-Robots-Tag:noindex
X-PUBLISHED-TTL:PT1H
BEGIN:VTIMEZONE
TZID:UTC
BEGIN:STANDARD
TZOFFSETFROM:+0000
TZOFFSETTO:+0000
TZNAME:UTC
DTSTART:20260101T000000
END:STANDARD
END:VTIMEZONE
BEGIN:VEVENT
DTSTART;TZID=UTC:20270321T090000
DTEND;TZID=UTC:20270321T150000
DTSTAMP:20260422T130749
CREATED:20260409T195415Z
LAST-MODIFIED:20260409T195415Z
UID:10006093-1805619600-1805641200@tracyaviary.org
SUMMARY:Tianguis
DESCRIPTION:Join us every Sunday for the tianguis (outdoor market) here at the Nature Center at Pia Okwai! Come and support our local vendors. This event is free to attend- don’t miss it! \n— \n¡Acompáñenos todos los domingos al tianguis aquí en el Nature center at Pia Okwai! Venga y apoye a nuestros vendedores locales. La entrada a este evento es gratuita\, ¡no se lo pierda!
URL:https://tracyaviary.org/nature-center/event-calendar/tianguis-5/2027-03-21/
ATTACH;FMTTYPE=image/png:https://tracyaviary.org/nature-center/wp-content/uploads/sites/3/2026/02/3.png
END:VEVENT
BEGIN:VEVENT
DTSTART;TZID=UTC:20270326T080000
DTEND;TZID=UTC:20270326T100000
DTSTAMP:20260422T130749
CREATED:20250329T201901Z
LAST-MODIFIED:20250329T201916Z
UID:10004980-1806048000-1806055200@tracyaviary.org
SUMMARY:Bird Surveys with Our Conservation Team
DESCRIPTION:
URL:https://tracyaviary.org/nature-center/event-calendar/bird-surveys-with-our-conservation-team-3/2027-03-26/
CATEGORIES:Daily
END:VEVENT
BEGIN:VEVENT
DTSTART;TZID=UTC:20270328T090000
DTEND;TZID=UTC:20270328T110000
DTSTAMP:20260422T130749
CREATED:20260127T173403Z
LAST-MODIFIED:20260127T173441Z
UID:10005915-1806224400-1806231600@tracyaviary.org
SUMMARY:Let's Go Birding Together
DESCRIPTION:Join us for a casual\, guided bird walk especially for LGBTQIA+ folks and our allies. This program is made for adults to connect with each other and the incredible birds who call the Pia Okwai/Jordan River home. \nLEARN MORE \nLet’s Go Birding Together meets every last Sunday of each month at 9 a.m. Meeting locations vary.  \nNo bird watching experience? No problem! Our educators and conservation scientists are experienced bird nerds and will help you spot and identify birds along the trail. We’ll even have freshly-sanitized binoculars and bird guides for you to borrow (Thanks\, Utah Division of Arts & Museums\, for funding these tools!). \nREGISTER HERE
URL:https://tracyaviary.org/nature-center/event-calendar/lets-go-birding-together-2-2-2-2-2-2-2/2027-03-28/
ATTACH;FMTTYPE=image/jpeg:https://tracyaviary.org/nature-center/wp-content/uploads/sites/3/2025/07/Lets-Go-Birding-Together-Hummingbird-10x10-NCPO.jpg
END:VEVENT
BEGIN:VEVENT
DTSTART;TZID=UTC:20270328T090000
DTEND;TZID=UTC:20270328T150000
DTSTAMP:20260422T130749
CREATED:20260409T195415Z
LAST-MODIFIED:20260409T195415Z
UID:10006094-1806224400-1806246000@tracyaviary.org
SUMMARY:Tianguis
DESCRIPTION:Join us every Sunday for the tianguis (outdoor market) here at the Nature Center at Pia Okwai! Come and support our local vendors. This event is free to attend- don’t miss it! \n— \n¡Acompáñenos todos los domingos al tianguis aquí en el Nature center at Pia Okwai! Venga y apoye a nuestros vendedores locales. La entrada a este evento es gratuita\, ¡no se lo pierda!
URL:https://tracyaviary.org/nature-center/event-calendar/tianguis-5/2027-03-28/
ATTACH;FMTTYPE=image/png:https://tracyaviary.org/nature-center/wp-content/uploads/sites/3/2026/02/3.png
END:VEVENT
BEGIN:VEVENT
DTSTART;TZID=UTC:20270402T080000
DTEND;TZID=UTC:20270402T100000
DTSTAMP:20260422T130749
CREATED:20250329T201901Z
LAST-MODIFIED:20250329T201916Z
UID:10004981-1806652800-1806660000@tracyaviary.org
SUMMARY:Bird Surveys with Our Conservation Team
DESCRIPTION:
URL:https://tracyaviary.org/nature-center/event-calendar/bird-surveys-with-our-conservation-team-3/2027-04-02/
CATEGORIES:Daily
END:VEVENT
BEGIN:VEVENT
DTSTART;TZID=UTC:20270404T090000
DTEND;TZID=UTC:20270404T150000
DTSTAMP:20260422T130749
CREATED:20260409T195415Z
LAST-MODIFIED:20260409T195415Z
UID:10006095-1806829200-1806850800@tracyaviary.org
SUMMARY:Tianguis
DESCRIPTION:Join us every Sunday for the tianguis (outdoor market) here at the Nature Center at Pia Okwai! Come and support our local vendors. This event is free to attend- don’t miss it! \n— \n¡Acompáñenos todos los domingos al tianguis aquí en el Nature center at Pia Okwai! Venga y apoye a nuestros vendedores locales. La entrada a este evento es gratuita\, ¡no se lo pierda!
URL:https://tracyaviary.org/nature-center/event-calendar/tianguis-5/2027-04-04/
ATTACH;FMTTYPE=image/png:https://tracyaviary.org/nature-center/wp-content/uploads/sites/3/2026/02/3.png
END:VEVENT
BEGIN:VEVENT
DTSTART;TZID=UTC:20270409T080000
DTEND;TZID=UTC:20270409T100000
DTSTAMP:20260422T130749
CREATED:20250329T201901Z
LAST-MODIFIED:20250329T201916Z
UID:10004982-1807257600-1807264800@tracyaviary.org
SUMMARY:Bird Surveys with Our Conservation Team
DESCRIPTION:
URL:https://tracyaviary.org/nature-center/event-calendar/bird-surveys-with-our-conservation-team-3/2027-04-09/
CATEGORIES:Daily
END:VEVENT
BEGIN:VEVENT
DTSTART;TZID=UTC:20270411T090000
DTEND;TZID=UTC:20270411T150000
DTSTAMP:20260422T130749
CREATED:20260409T195415Z
LAST-MODIFIED:20260409T195415Z
UID:10006096-1807434000-1807455600@tracyaviary.org
SUMMARY:Tianguis
DESCRIPTION:Join us every Sunday for the tianguis (outdoor market) here at the Nature Center at Pia Okwai! Come and support our local vendors. This event is free to attend- don’t miss it! \n— \n¡Acompáñenos todos los domingos al tianguis aquí en el Nature center at Pia Okwai! Venga y apoye a nuestros vendedores locales. La entrada a este evento es gratuita\, ¡no se lo pierda!
URL:https://tracyaviary.org/nature-center/event-calendar/tianguis-5/2027-04-11/
ATTACH;FMTTYPE=image/png:https://tracyaviary.org/nature-center/wp-content/uploads/sites/3/2026/02/3.png
END:VEVENT
BEGIN:VEVENT
DTSTART;TZID=UTC:20270416T080000
DTEND;TZID=UTC:20270416T100000
DTSTAMP:20260422T130749
CREATED:20250329T201901Z
LAST-MODIFIED:20250329T201916Z
UID:10004983-1807862400-1807869600@tracyaviary.org
SUMMARY:Bird Surveys with Our Conservation Team
DESCRIPTION:
URL:https://tracyaviary.org/nature-center/event-calendar/bird-surveys-with-our-conservation-team-3/2027-04-16/
CATEGORIES:Daily
END:VEVENT
BEGIN:VEVENT
DTSTART;TZID=UTC:20270418T090000
DTEND;TZID=UTC:20270418T150000
DTSTAMP:20260422T130749
CREATED:20260409T195415Z
LAST-MODIFIED:20260409T195415Z
UID:10006097-1808038800-1808060400@tracyaviary.org
SUMMARY:Tianguis
DESCRIPTION:Join us every Sunday for the tianguis (outdoor market) here at the Nature Center at Pia Okwai! Come and support our local vendors. This event is free to attend- don’t miss it! \n— \n¡Acompáñenos todos los domingos al tianguis aquí en el Nature center at Pia Okwai! Venga y apoye a nuestros vendedores locales. La entrada a este evento es gratuita\, ¡no se lo pierda!
URL:https://tracyaviary.org/nature-center/event-calendar/tianguis-5/2027-04-18/
ATTACH;FMTTYPE=image/png:https://tracyaviary.org/nature-center/wp-content/uploads/sites/3/2026/02/3.png
END:VEVENT
BEGIN:VEVENT
DTSTART;TZID=UTC:20270423T080000
DTEND;TZID=UTC:20270423T100000
DTSTAMP:20260422T130749
CREATED:20250329T201901Z
LAST-MODIFIED:20250329T201916Z
UID:10004984-1808467200-1808474400@tracyaviary.org
SUMMARY:Bird Surveys with Our Conservation Team
DESCRIPTION:
URL:https://tracyaviary.org/nature-center/event-calendar/bird-surveys-with-our-conservation-team-3/2027-04-23/
CATEGORIES:Daily
END:VEVENT
BEGIN:VEVENT
DTSTART;TZID=UTC:20270425T090000
DTEND;TZID=UTC:20270425T110000
DTSTAMP:20260422T130749
CREATED:20260127T173403Z
LAST-MODIFIED:20260127T173441Z
UID:10005916-1808643600-1808650800@tracyaviary.org
SUMMARY:Let's Go Birding Together
DESCRIPTION:Join us for a casual\, guided bird walk especially for LGBTQIA+ folks and our allies. This program is made for adults to connect with each other and the incredible birds who call the Pia Okwai/Jordan River home. \nLEARN MORE \nLet’s Go Birding Together meets every last Sunday of each month at 9 a.m. Meeting locations vary.  \nNo bird watching experience? No problem! Our educators and conservation scientists are experienced bird nerds and will help you spot and identify birds along the trail. We’ll even have freshly-sanitized binoculars and bird guides for you to borrow (Thanks\, Utah Division of Arts & Museums\, for funding these tools!). \nREGISTER HERE
URL:https://tracyaviary.org/nature-center/event-calendar/lets-go-birding-together-2-2-2-2-2-2-2/2027-04-25/
ATTACH;FMTTYPE=image/jpeg:https://tracyaviary.org/nature-center/wp-content/uploads/sites/3/2025/07/Lets-Go-Birding-Together-Hummingbird-10x10-NCPO.jpg
END:VEVENT
BEGIN:VEVENT
DTSTART;TZID=UTC:20270425T090000
DTEND;TZID=UTC:20270425T150000
DTSTAMP:20260422T130749
CREATED:20260409T195415Z
LAST-MODIFIED:20260409T195415Z
UID:10006098-1808643600-1808665200@tracyaviary.org
SUMMARY:Tianguis
DESCRIPTION:Join us every Sunday for the tianguis (outdoor market) here at the Nature Center at Pia Okwai! Come and support our local vendors. This event is free to attend- don’t miss it! \n— \n¡Acompáñenos todos los domingos al tianguis aquí en el Nature center at Pia Okwai! Venga y apoye a nuestros vendedores locales. La entrada a este evento es gratuita\, ¡no se lo pierda!
URL:https://tracyaviary.org/nature-center/event-calendar/tianguis-5/2027-04-25/
ATTACH;FMTTYPE=image/png:https://tracyaviary.org/nature-center/wp-content/uploads/sites/3/2026/02/3.png
END:VEVENT
BEGIN:VEVENT
DTSTART;TZID=UTC:20270430T080000
DTEND;TZID=UTC:20270430T100000
DTSTAMP:20260422T130749
CREATED:20250329T201901Z
LAST-MODIFIED:20250329T201916Z
UID:10004985-1809072000-1809079200@tracyaviary.org
SUMMARY:Bird Surveys with Our Conservation Team
DESCRIPTION:
URL:https://tracyaviary.org/nature-center/event-calendar/bird-surveys-with-our-conservation-team-3/2027-04-30/
CATEGORIES:Daily
END:VEVENT
BEGIN:VEVENT
DTSTART;TZID=UTC:20270502T090000
DTEND;TZID=UTC:20270502T150000
DTSTAMP:20260422T130749
CREATED:20260409T195415Z
LAST-MODIFIED:20260409T195415Z
UID:10006099-1809248400-1809270000@tracyaviary.org
SUMMARY:Tianguis
DESCRIPTION:Join us every Sunday for the tianguis (outdoor market) here at the Nature Center at Pia Okwai! Come and support our local vendors. This event is free to attend- don’t miss it! \n— \n¡Acompáñenos todos los domingos al tianguis aquí en el Nature center at Pia Okwai! Venga y apoye a nuestros vendedores locales. La entrada a este evento es gratuita\, ¡no se lo pierda!
URL:https://tracyaviary.org/nature-center/event-calendar/tianguis-5/2027-05-02/
ATTACH;FMTTYPE=image/png:https://tracyaviary.org/nature-center/wp-content/uploads/sites/3/2026/02/3.png
END:VEVENT
BEGIN:VEVENT
DTSTART;TZID=UTC:20270507T080000
DTEND;TZID=UTC:20270507T100000
DTSTAMP:20260422T130749
CREATED:20250329T201901Z
LAST-MODIFIED:20250329T201916Z
UID:10004986-1809676800-1809684000@tracyaviary.org
SUMMARY:Bird Surveys with Our Conservation Team
DESCRIPTION:
URL:https://tracyaviary.org/nature-center/event-calendar/bird-surveys-with-our-conservation-team-3/2027-05-07/
CATEGORIES:Daily
END:VEVENT
BEGIN:VEVENT
DTSTART;TZID=UTC:20270509T090000
DTEND;TZID=UTC:20270509T150000
DTSTAMP:20260422T130749
CREATED:20260409T195415Z
LAST-MODIFIED:20260409T195415Z
UID:10006100-1809853200-1809874800@tracyaviary.org
SUMMARY:Tianguis
DESCRIPTION:Join us every Sunday for the tianguis (outdoor market) here at the Nature Center at Pia Okwai! Come and support our local vendors. This event is free to attend- don’t miss it! \n— \n¡Acompáñenos todos los domingos al tianguis aquí en el Nature center at Pia Okwai! Venga y apoye a nuestros vendedores locales. La entrada a este evento es gratuita\, ¡no se lo pierda!
URL:https://tracyaviary.org/nature-center/event-calendar/tianguis-5/2027-05-09/
ATTACH;FMTTYPE=image/png:https://tracyaviary.org/nature-center/wp-content/uploads/sites/3/2026/02/3.png
END:VEVENT
BEGIN:VEVENT
DTSTART;TZID=UTC:20270514T080000
DTEND;TZID=UTC:20270514T100000
DTSTAMP:20260422T130749
CREATED:20250329T201901Z
LAST-MODIFIED:20250329T201916Z
UID:10004987-1810281600-1810288800@tracyaviary.org
SUMMARY:Bird Surveys with Our Conservation Team
DESCRIPTION:
URL:https://tracyaviary.org/nature-center/event-calendar/bird-surveys-with-our-conservation-team-3/2027-05-14/
CATEGORIES:Daily
END:VEVENT
BEGIN:VEVENT
DTSTART;TZID=UTC:20270516T090000
DTEND;TZID=UTC:20270516T150000
DTSTAMP:20260422T130749
CREATED:20260409T195415Z
LAST-MODIFIED:20260409T195415Z
UID:10006101-1810458000-1810479600@tracyaviary.org
SUMMARY:Tianguis
DESCRIPTION:Join us every Sunday for the tianguis (outdoor market) here at the Nature Center at Pia Okwai! Come and support our local vendors. This event is free to attend- don’t miss it! \n— \n¡Acompáñenos todos los domingos al tianguis aquí en el Nature center at Pia Okwai! Venga y apoye a nuestros vendedores locales. La entrada a este evento es gratuita\, ¡no se lo pierda!
URL:https://tracyaviary.org/nature-center/event-calendar/tianguis-5/2027-05-16/
ATTACH;FMTTYPE=image/png:https://tracyaviary.org/nature-center/wp-content/uploads/sites/3/2026/02/3.png
END:VEVENT
BEGIN:VEVENT
DTSTART;TZID=UTC:20270521T080000
DTEND;TZID=UTC:20270521T100000
DTSTAMP:20260422T130749
CREATED:20250329T201901Z
LAST-MODIFIED:20250329T201916Z
UID:10004988-1810886400-1810893600@tracyaviary.org
SUMMARY:Bird Surveys with Our Conservation Team
DESCRIPTION:
URL:https://tracyaviary.org/nature-center/event-calendar/bird-surveys-with-our-conservation-team-3/2027-05-21/
CATEGORIES:Daily
END:VEVENT
BEGIN:VEVENT
DTSTART;TZID=UTC:20270523T090000
DTEND;TZID=UTC:20270523T150000
DTSTAMP:20260422T130749
CREATED:20260409T195415Z
LAST-MODIFIED:20260409T195415Z
UID:10006102-1811062800-1811084400@tracyaviary.org
SUMMARY:Tianguis
DESCRIPTION:Join us every Sunday for the tianguis (outdoor market) here at the Nature Center at Pia Okwai! Come and support our local vendors. This event is free to attend- don’t miss it! \n— \n¡Acompáñenos todos los domingos al tianguis aquí en el Nature center at Pia Okwai! Venga y apoye a nuestros vendedores locales. La entrada a este evento es gratuita\, ¡no se lo pierda!
URL:https://tracyaviary.org/nature-center/event-calendar/tianguis-5/2027-05-23/
ATTACH;FMTTYPE=image/png:https://tracyaviary.org/nature-center/wp-content/uploads/sites/3/2026/02/3.png
END:VEVENT
BEGIN:VEVENT
DTSTART;TZID=UTC:20270528T080000
DTEND;TZID=UTC:20270528T100000
DTSTAMP:20260422T130749
CREATED:20250329T201901Z
LAST-MODIFIED:20250329T201916Z
UID:10004989-1811491200-1811498400@tracyaviary.org
SUMMARY:Bird Surveys with Our Conservation Team
DESCRIPTION:
URL:https://tracyaviary.org/nature-center/event-calendar/bird-surveys-with-our-conservation-team-3/2027-05-28/
CATEGORIES:Daily
END:VEVENT
BEGIN:VEVENT
DTSTART;TZID=UTC:20270530T090000
DTEND;TZID=UTC:20270530T110000
DTSTAMP:20260422T130749
CREATED:20260127T173403Z
LAST-MODIFIED:20260127T173441Z
UID:10005917-1811667600-1811674800@tracyaviary.org
SUMMARY:Let's Go Birding Together
DESCRIPTION:Join us for a casual\, guided bird walk especially for LGBTQIA+ folks and our allies. This program is made for adults to connect with each other and the incredible birds who call the Pia Okwai/Jordan River home. \nLEARN MORE \nLet’s Go Birding Together meets every last Sunday of each month at 9 a.m. Meeting locations vary.  \nNo bird watching experience? No problem! Our educators and conservation scientists are experienced bird nerds and will help you spot and identify birds along the trail. We’ll even have freshly-sanitized binoculars and bird guides for you to borrow (Thanks\, Utah Division of Arts & Museums\, for funding these tools!). \nREGISTER HERE
URL:https://tracyaviary.org/nature-center/event-calendar/lets-go-birding-together-2-2-2-2-2-2-2/2027-05-30/
ATTACH;FMTTYPE=image/jpeg:https://tracyaviary.org/nature-center/wp-content/uploads/sites/3/2025/07/Lets-Go-Birding-Together-Hummingbird-10x10-NCPO.jpg
END:VEVENT
BEGIN:VEVENT
DTSTART;TZID=UTC:20270530T090000
DTEND;TZID=UTC:20270530T150000
DTSTAMP:20260422T130749
CREATED:20260409T195415Z
LAST-MODIFIED:20260409T195415Z
UID:10006103-1811667600-1811689200@tracyaviary.org
SUMMARY:Tianguis
DESCRIPTION:Join us every Sunday for the tianguis (outdoor market) here at the Nature Center at Pia Okwai! Come and support our local vendors. This event is free to attend- don’t miss it! \n— \n¡Acompáñenos todos los domingos al tianguis aquí en el Nature center at Pia Okwai! Venga y apoye a nuestros vendedores locales. La entrada a este evento es gratuita\, ¡no se lo pierda!
URL:https://tracyaviary.org/nature-center/event-calendar/tianguis-5/2027-05-30/
ATTACH;FMTTYPE=image/png:https://tracyaviary.org/nature-center/wp-content/uploads/sites/3/2026/02/3.png
END:VEVENT
BEGIN:VEVENT
DTSTART;TZID=UTC:20270604T080000
DTEND;TZID=UTC:20270604T100000
DTSTAMP:20260422T130749
CREATED:20250329T201901Z
LAST-MODIFIED:20250329T201916Z
UID:10004990-1812096000-1812103200@tracyaviary.org
SUMMARY:Bird Surveys with Our Conservation Team
DESCRIPTION:
URL:https://tracyaviary.org/nature-center/event-calendar/bird-surveys-with-our-conservation-team-3/2027-06-04/
CATEGORIES:Daily
END:VEVENT
BEGIN:VEVENT
DTSTART;TZID=UTC:20270606T090000
DTEND;TZID=UTC:20270606T150000
DTSTAMP:20260422T130749
CREATED:20260409T195415Z
LAST-MODIFIED:20260409T195415Z
UID:10006104-1812272400-1812294000@tracyaviary.org
SUMMARY:Tianguis
DESCRIPTION:Join us every Sunday for the tianguis (outdoor market) here at the Nature Center at Pia Okwai! Come and support our local vendors. This event is free to attend- don’t miss it! \n— \n¡Acompáñenos todos los domingos al tianguis aquí en el Nature center at Pia Okwai! Venga y apoye a nuestros vendedores locales. La entrada a este evento es gratuita\, ¡no se lo pierda!
URL:https://tracyaviary.org/nature-center/event-calendar/tianguis-5/2027-06-06/
ATTACH;FMTTYPE=image/png:https://tracyaviary.org/nature-center/wp-content/uploads/sites/3/2026/02/3.png
END:VEVENT
BEGIN:VEVENT
DTSTART;TZID=UTC:20270611T080000
DTEND;TZID=UTC:20270611T100000
DTSTAMP:20260422T130749
CREATED:20250329T201901Z
LAST-MODIFIED:20250329T201916Z
UID:10004991-1812700800-1812708000@tracyaviary.org
SUMMARY:Bird Surveys with Our Conservation Team
DESCRIPTION:
URL:https://tracyaviary.org/nature-center/event-calendar/bird-surveys-with-our-conservation-team-3/2027-06-11/
CATEGORIES:Daily
END:VEVENT
BEGIN:VEVENT
DTSTART;TZID=UTC:20270613T090000
DTEND;TZID=UTC:20270613T150000
DTSTAMP:20260422T130749
CREATED:20260409T195415Z
LAST-MODIFIED:20260409T195415Z
UID:10006105-1812877200-1812898800@tracyaviary.org
SUMMARY:Tianguis
DESCRIPTION:Join us every Sunday for the tianguis (outdoor market) here at the Nature Center at Pia Okwai! Come and support our local vendors. This event is free to attend- don’t miss it! \n— \n¡Acompáñenos todos los domingos al tianguis aquí en el Nature center at Pia Okwai! Venga y apoye a nuestros vendedores locales. La entrada a este evento es gratuita\, ¡no se lo pierda!
URL:https://tracyaviary.org/nature-center/event-calendar/tianguis-5/2027-06-13/
ATTACH;FMTTYPE=image/png:https://tracyaviary.org/nature-center/wp-content/uploads/sites/3/2026/02/3.png
END:VEVENT
BEGIN:VEVENT
DTSTART;TZID=UTC:20270618T080000
DTEND;TZID=UTC:20270618T100000
DTSTAMP:20260422T130749
CREATED:20250329T201901Z
LAST-MODIFIED:20250329T201916Z
UID:10004992-1813305600-1813312800@tracyaviary.org
SUMMARY:Bird Surveys with Our Conservation Team
DESCRIPTION:
URL:https://tracyaviary.org/nature-center/event-calendar/bird-surveys-with-our-conservation-team-3/2027-06-18/
CATEGORIES:Daily
END:VEVENT
BEGIN:VEVENT
DTSTART;TZID=UTC:20270620T090000
DTEND;TZID=UTC:20270620T150000
DTSTAMP:20260422T130749
CREATED:20260409T195415Z
LAST-MODIFIED:20260409T195415Z
UID:10006106-1813482000-1813503600@tracyaviary.org
SUMMARY:Tianguis
DESCRIPTION:Join us every Sunday for the tianguis (outdoor market) here at the Nature Center at Pia Okwai! Come and support our local vendors. This event is free to attend- don’t miss it! \n— \n¡Acompáñenos todos los domingos al tianguis aquí en el Nature center at Pia Okwai! Venga y apoye a nuestros vendedores locales. La entrada a este evento es gratuita\, ¡no se lo pierda!
URL:https://tracyaviary.org/nature-center/event-calendar/tianguis-5/2027-06-20/
ATTACH;FMTTYPE=image/png:https://tracyaviary.org/nature-center/wp-content/uploads/sites/3/2026/02/3.png
END:VEVENT
END:VCALENDAR