BEGIN:VCALENDAR
VERSION:2.0
PRODID:-//Nature Center at Pia Okwai - ECPv6.15.20//NONSGML v1.0//EN
CALSCALE:GREGORIAN
METHOD:PUBLISH
X-ORIGINAL-URL:https://tracyaviary.org/nature-center
X-WR-CALDESC:Events for Nature Center at Pia Okwai
REFRESH-INTERVAL;VALUE=DURATION:PT1H
X-Robots-Tag:noindex
X-PUBLISHED-TTL:PT1H
BEGIN:VTIMEZONE
TZID:UTC
BEGIN:STANDARD
TZOFFSETFROM:+0000
TZOFFSETTO:+0000
TZNAME:UTC
DTSTART:20280101T000000
END:STANDARD
END:VTIMEZONE
BEGIN:VEVENT
DTSTART;TZID=UTC:20290817T080000
DTEND;TZID=UTC:20290817T100000
DTSTAMP:20260422T150752
CREATED:20250329T201901Z
LAST-MODIFIED:20250329T201916Z
UID:10005105-1881648000-1881655200@tracyaviary.org
SUMMARY:Bird Surveys with Our Conservation Team
DESCRIPTION:
URL:https://tracyaviary.org/nature-center/event-calendar/bird-surveys-with-our-conservation-team-3/2029-08-17/
CATEGORIES:Daily
END:VEVENT
BEGIN:VEVENT
DTSTART;TZID=UTC:20290824T080000
DTEND;TZID=UTC:20290824T100000
DTSTAMP:20260422T150752
CREATED:20250329T201901Z
LAST-MODIFIED:20250329T201916Z
UID:10005106-1882252800-1882260000@tracyaviary.org
SUMMARY:Bird Surveys with Our Conservation Team
DESCRIPTION:
URL:https://tracyaviary.org/nature-center/event-calendar/bird-surveys-with-our-conservation-team-3/2029-08-24/
CATEGORIES:Daily
END:VEVENT
BEGIN:VEVENT
DTSTART;TZID=UTC:20290826T090000
DTEND;TZID=UTC:20290826T110000
DTSTAMP:20260422T150752
CREATED:20260127T173403Z
LAST-MODIFIED:20260127T173441Z
UID:10005944-1882429200-1882436400@tracyaviary.org
SUMMARY:Let's Go Birding Together
DESCRIPTION:Join us for a casual\, guided bird walk especially for LGBTQIA+ folks and our allies. This program is made for adults to connect with each other and the incredible birds who call the Pia Okwai/Jordan River home. \nLEARN MORE \nLet’s Go Birding Together meets every last Sunday of each month at 9 a.m. Meeting locations vary.  \nNo bird watching experience? No problem! Our educators and conservation scientists are experienced bird nerds and will help you spot and identify birds along the trail. We’ll even have freshly-sanitized binoculars and bird guides for you to borrow (Thanks\, Utah Division of Arts & Museums\, for funding these tools!). \nREGISTER HERE
URL:https://tracyaviary.org/nature-center/event-calendar/lets-go-birding-together-2-2-2-2-2-2-2/2029-08-26/
ATTACH;FMTTYPE=image/jpeg:https://tracyaviary.org/nature-center/wp-content/uploads/sites/3/2025/07/Lets-Go-Birding-Together-Hummingbird-10x10-NCPO.jpg
END:VEVENT
BEGIN:VEVENT
DTSTART;TZID=UTC:20290831T080000
DTEND;TZID=UTC:20290831T100000
DTSTAMP:20260422T150752
CREATED:20250329T201901Z
LAST-MODIFIED:20250329T201916Z
UID:10005107-1882857600-1882864800@tracyaviary.org
SUMMARY:Bird Surveys with Our Conservation Team
DESCRIPTION:
URL:https://tracyaviary.org/nature-center/event-calendar/bird-surveys-with-our-conservation-team-3/2029-08-31/
CATEGORIES:Daily
END:VEVENT
BEGIN:VEVENT
DTSTART;TZID=UTC:20290907T080000
DTEND;TZID=UTC:20290907T100000
DTSTAMP:20260422T150752
CREATED:20250329T201901Z
LAST-MODIFIED:20250329T201916Z
UID:10005108-1883462400-1883469600@tracyaviary.org
SUMMARY:Bird Surveys with Our Conservation Team
DESCRIPTION:
URL:https://tracyaviary.org/nature-center/event-calendar/bird-surveys-with-our-conservation-team-3/2029-09-07/
CATEGORIES:Daily
END:VEVENT
BEGIN:VEVENT
DTSTART;TZID=UTC:20290914T080000
DTEND;TZID=UTC:20290914T100000
DTSTAMP:20260422T150752
CREATED:20250329T201901Z
LAST-MODIFIED:20250329T201916Z
UID:10005109-1884067200-1884074400@tracyaviary.org
SUMMARY:Bird Surveys with Our Conservation Team
DESCRIPTION:
URL:https://tracyaviary.org/nature-center/event-calendar/bird-surveys-with-our-conservation-team-3/2029-09-14/
CATEGORIES:Daily
END:VEVENT
BEGIN:VEVENT
DTSTART;TZID=UTC:20290921T080000
DTEND;TZID=UTC:20290921T100000
DTSTAMP:20260422T150752
CREATED:20250329T201901Z
LAST-MODIFIED:20250329T201916Z
UID:10005110-1884672000-1884679200@tracyaviary.org
SUMMARY:Bird Surveys with Our Conservation Team
DESCRIPTION:
URL:https://tracyaviary.org/nature-center/event-calendar/bird-surveys-with-our-conservation-team-3/2029-09-21/
CATEGORIES:Daily
END:VEVENT
BEGIN:VEVENT
DTSTART;TZID=UTC:20290928T080000
DTEND;TZID=UTC:20290928T100000
DTSTAMP:20260422T150752
CREATED:20250329T201901Z
LAST-MODIFIED:20250329T201916Z
UID:10005111-1885276800-1885284000@tracyaviary.org
SUMMARY:Bird Surveys with Our Conservation Team
DESCRIPTION:
URL:https://tracyaviary.org/nature-center/event-calendar/bird-surveys-with-our-conservation-team-3/2029-09-28/
CATEGORIES:Daily
END:VEVENT
BEGIN:VEVENT
DTSTART;TZID=UTC:20290930T090000
DTEND;TZID=UTC:20290930T110000
DTSTAMP:20260422T150752
CREATED:20260127T173403Z
LAST-MODIFIED:20260127T173441Z
UID:10005945-1885453200-1885460400@tracyaviary.org
SUMMARY:Let's Go Birding Together
DESCRIPTION:Join us for a casual\, guided bird walk especially for LGBTQIA+ folks and our allies. This program is made for adults to connect with each other and the incredible birds who call the Pia Okwai/Jordan River home. \nLEARN MORE \nLet’s Go Birding Together meets every last Sunday of each month at 9 a.m. Meeting locations vary.  \nNo bird watching experience? No problem! Our educators and conservation scientists are experienced bird nerds and will help you spot and identify birds along the trail. We’ll even have freshly-sanitized binoculars and bird guides for you to borrow (Thanks\, Utah Division of Arts & Museums\, for funding these tools!). \nREGISTER HERE
URL:https://tracyaviary.org/nature-center/event-calendar/lets-go-birding-together-2-2-2-2-2-2-2/2029-09-30/
ATTACH;FMTTYPE=image/jpeg:https://tracyaviary.org/nature-center/wp-content/uploads/sites/3/2025/07/Lets-Go-Birding-Together-Hummingbird-10x10-NCPO.jpg
END:VEVENT
BEGIN:VEVENT
DTSTART;TZID=UTC:20291005T080000
DTEND;TZID=UTC:20291005T100000
DTSTAMP:20260422T150752
CREATED:20250329T201901Z
LAST-MODIFIED:20250329T201916Z
UID:10005112-1885881600-1885888800@tracyaviary.org
SUMMARY:Bird Surveys with Our Conservation Team
DESCRIPTION:
URL:https://tracyaviary.org/nature-center/event-calendar/bird-surveys-with-our-conservation-team-3/2029-10-05/
CATEGORIES:Daily
END:VEVENT
BEGIN:VEVENT
DTSTART;TZID=UTC:20291012T080000
DTEND;TZID=UTC:20291012T100000
DTSTAMP:20260422T150752
CREATED:20250329T201901Z
LAST-MODIFIED:20250329T201916Z
UID:10005113-1886486400-1886493600@tracyaviary.org
SUMMARY:Bird Surveys with Our Conservation Team
DESCRIPTION:
URL:https://tracyaviary.org/nature-center/event-calendar/bird-surveys-with-our-conservation-team-3/2029-10-12/
CATEGORIES:Daily
END:VEVENT
BEGIN:VEVENT
DTSTART;TZID=UTC:20291019T080000
DTEND;TZID=UTC:20291019T100000
DTSTAMP:20260422T150752
CREATED:20250329T201901Z
LAST-MODIFIED:20250329T201916Z
UID:10005114-1887091200-1887098400@tracyaviary.org
SUMMARY:Bird Surveys with Our Conservation Team
DESCRIPTION:
URL:https://tracyaviary.org/nature-center/event-calendar/bird-surveys-with-our-conservation-team-3/2029-10-19/
CATEGORIES:Daily
END:VEVENT
BEGIN:VEVENT
DTSTART;TZID=UTC:20291026T080000
DTEND;TZID=UTC:20291026T100000
DTSTAMP:20260422T150752
CREATED:20250329T201901Z
LAST-MODIFIED:20250329T201916Z
UID:10005115-1887696000-1887703200@tracyaviary.org
SUMMARY:Bird Surveys with Our Conservation Team
DESCRIPTION:
URL:https://tracyaviary.org/nature-center/event-calendar/bird-surveys-with-our-conservation-team-3/2029-10-26/
CATEGORIES:Daily
END:VEVENT
BEGIN:VEVENT
DTSTART;TZID=UTC:20291028T090000
DTEND;TZID=UTC:20291028T110000
DTSTAMP:20260422T150752
CREATED:20260127T173403Z
LAST-MODIFIED:20260127T173441Z
UID:10005946-1887872400-1887879600@tracyaviary.org
SUMMARY:Let's Go Birding Together
DESCRIPTION:Join us for a casual\, guided bird walk especially for LGBTQIA+ folks and our allies. This program is made for adults to connect with each other and the incredible birds who call the Pia Okwai/Jordan River home. \nLEARN MORE \nLet’s Go Birding Together meets every last Sunday of each month at 9 a.m. Meeting locations vary.  \nNo bird watching experience? No problem! Our educators and conservation scientists are experienced bird nerds and will help you spot and identify birds along the trail. We’ll even have freshly-sanitized binoculars and bird guides for you to borrow (Thanks\, Utah Division of Arts & Museums\, for funding these tools!). \nREGISTER HERE
URL:https://tracyaviary.org/nature-center/event-calendar/lets-go-birding-together-2-2-2-2-2-2-2/2029-10-28/
ATTACH;FMTTYPE=image/jpeg:https://tracyaviary.org/nature-center/wp-content/uploads/sites/3/2025/07/Lets-Go-Birding-Together-Hummingbird-10x10-NCPO.jpg
END:VEVENT
BEGIN:VEVENT
DTSTART;TZID=UTC:20291102T080000
DTEND;TZID=UTC:20291102T100000
DTSTAMP:20260422T150752
CREATED:20250329T201901Z
LAST-MODIFIED:20250329T201916Z
UID:10005116-1888300800-1888308000@tracyaviary.org
SUMMARY:Bird Surveys with Our Conservation Team
DESCRIPTION:
URL:https://tracyaviary.org/nature-center/event-calendar/bird-surveys-with-our-conservation-team-3/2029-11-02/
CATEGORIES:Daily
END:VEVENT
BEGIN:VEVENT
DTSTART;TZID=UTC:20291109T080000
DTEND;TZID=UTC:20291109T100000
DTSTAMP:20260422T150752
CREATED:20250329T201901Z
LAST-MODIFIED:20250329T201916Z
UID:10005117-1888905600-1888912800@tracyaviary.org
SUMMARY:Bird Surveys with Our Conservation Team
DESCRIPTION:
URL:https://tracyaviary.org/nature-center/event-calendar/bird-surveys-with-our-conservation-team-3/2029-11-09/
CATEGORIES:Daily
END:VEVENT
BEGIN:VEVENT
DTSTART;TZID=UTC:20291116T080000
DTEND;TZID=UTC:20291116T100000
DTSTAMP:20260422T150752
CREATED:20250329T201901Z
LAST-MODIFIED:20250329T201916Z
UID:10005118-1889510400-1889517600@tracyaviary.org
SUMMARY:Bird Surveys with Our Conservation Team
DESCRIPTION:
URL:https://tracyaviary.org/nature-center/event-calendar/bird-surveys-with-our-conservation-team-3/2029-11-16/
CATEGORIES:Daily
END:VEVENT
BEGIN:VEVENT
DTSTART;TZID=UTC:20291123T080000
DTEND;TZID=UTC:20291123T100000
DTSTAMP:20260422T150752
CREATED:20250329T201901Z
LAST-MODIFIED:20250329T201916Z
UID:10005119-1890115200-1890122400@tracyaviary.org
SUMMARY:Bird Surveys with Our Conservation Team
DESCRIPTION:
URL:https://tracyaviary.org/nature-center/event-calendar/bird-surveys-with-our-conservation-team-3/2029-11-23/
CATEGORIES:Daily
END:VEVENT
BEGIN:VEVENT
DTSTART;TZID=UTC:20291125T090000
DTEND;TZID=UTC:20291125T110000
DTSTAMP:20260422T150752
CREATED:20260127T173403Z
LAST-MODIFIED:20260127T173441Z
UID:10005947-1890291600-1890298800@tracyaviary.org
SUMMARY:Let's Go Birding Together
DESCRIPTION:Join us for a casual\, guided bird walk especially for LGBTQIA+ folks and our allies. This program is made for adults to connect with each other and the incredible birds who call the Pia Okwai/Jordan River home. \nLEARN MORE \nLet’s Go Birding Together meets every last Sunday of each month at 9 a.m. Meeting locations vary.  \nNo bird watching experience? No problem! Our educators and conservation scientists are experienced bird nerds and will help you spot and identify birds along the trail. We’ll even have freshly-sanitized binoculars and bird guides for you to borrow (Thanks\, Utah Division of Arts & Museums\, for funding these tools!). \nREGISTER HERE
URL:https://tracyaviary.org/nature-center/event-calendar/lets-go-birding-together-2-2-2-2-2-2-2/2029-11-25/
ATTACH;FMTTYPE=image/jpeg:https://tracyaviary.org/nature-center/wp-content/uploads/sites/3/2025/07/Lets-Go-Birding-Together-Hummingbird-10x10-NCPO.jpg
END:VEVENT
BEGIN:VEVENT
DTSTART;TZID=UTC:20291130T080000
DTEND;TZID=UTC:20291130T100000
DTSTAMP:20260422T150752
CREATED:20250329T201901Z
LAST-MODIFIED:20250329T201916Z
UID:10005120-1890720000-1890727200@tracyaviary.org
SUMMARY:Bird Surveys with Our Conservation Team
DESCRIPTION:
URL:https://tracyaviary.org/nature-center/event-calendar/bird-surveys-with-our-conservation-team-3/2029-11-30/
CATEGORIES:Daily
END:VEVENT
BEGIN:VEVENT
DTSTART;TZID=UTC:20291207T080000
DTEND;TZID=UTC:20291207T100000
DTSTAMP:20260422T150752
CREATED:20250329T201901Z
LAST-MODIFIED:20250329T201916Z
UID:10005121-1891324800-1891332000@tracyaviary.org
SUMMARY:Bird Surveys with Our Conservation Team
DESCRIPTION:
URL:https://tracyaviary.org/nature-center/event-calendar/bird-surveys-with-our-conservation-team-3/2029-12-07/
CATEGORIES:Daily
END:VEVENT
BEGIN:VEVENT
DTSTART;TZID=UTC:20291214T080000
DTEND;TZID=UTC:20291214T100000
DTSTAMP:20260422T150752
CREATED:20250329T201901Z
LAST-MODIFIED:20250329T201916Z
UID:10005122-1891929600-1891936800@tracyaviary.org
SUMMARY:Bird Surveys with Our Conservation Team
DESCRIPTION:
URL:https://tracyaviary.org/nature-center/event-calendar/bird-surveys-with-our-conservation-team-3/2029-12-14/
CATEGORIES:Daily
END:VEVENT
BEGIN:VEVENT
DTSTART;TZID=UTC:20291221T080000
DTEND;TZID=UTC:20291221T100000
DTSTAMP:20260422T150752
CREATED:20250329T201901Z
LAST-MODIFIED:20250329T201916Z
UID:10005123-1892534400-1892541600@tracyaviary.org
SUMMARY:Bird Surveys with Our Conservation Team
DESCRIPTION:
URL:https://tracyaviary.org/nature-center/event-calendar/bird-surveys-with-our-conservation-team-3/2029-12-21/
CATEGORIES:Daily
END:VEVENT
BEGIN:VEVENT
DTSTART;TZID=UTC:20291228T080000
DTEND;TZID=UTC:20291228T100000
DTSTAMP:20260422T150752
CREATED:20250329T201901Z
LAST-MODIFIED:20250329T201916Z
UID:10005124-1893139200-1893146400@tracyaviary.org
SUMMARY:Bird Surveys with Our Conservation Team
DESCRIPTION:
URL:https://tracyaviary.org/nature-center/event-calendar/bird-surveys-with-our-conservation-team-3/2029-12-28/
CATEGORIES:Daily
END:VEVENT
BEGIN:VEVENT
DTSTART;TZID=UTC:20291230T090000
DTEND;TZID=UTC:20291230T110000
DTSTAMP:20260422T150752
CREATED:20260127T173403Z
LAST-MODIFIED:20260127T173441Z
UID:10005948-1893315600-1893322800@tracyaviary.org
SUMMARY:Let's Go Birding Together
DESCRIPTION:Join us for a casual\, guided bird walk especially for LGBTQIA+ folks and our allies. This program is made for adults to connect with each other and the incredible birds who call the Pia Okwai/Jordan River home. \nLEARN MORE \nLet’s Go Birding Together meets every last Sunday of each month at 9 a.m. Meeting locations vary.  \nNo bird watching experience? No problem! Our educators and conservation scientists are experienced bird nerds and will help you spot and identify birds along the trail. We’ll even have freshly-sanitized binoculars and bird guides for you to borrow (Thanks\, Utah Division of Arts & Museums\, for funding these tools!). \nREGISTER HERE
URL:https://tracyaviary.org/nature-center/event-calendar/lets-go-birding-together-2-2-2-2-2-2-2/2029-12-30/
ATTACH;FMTTYPE=image/jpeg:https://tracyaviary.org/nature-center/wp-content/uploads/sites/3/2025/07/Lets-Go-Birding-Together-Hummingbird-10x10-NCPO.jpg
END:VEVENT
BEGIN:VEVENT
DTSTART;TZID=UTC:20300104T080000
DTEND;TZID=UTC:20300104T100000
DTSTAMP:20260422T150752
CREATED:20250329T201901Z
LAST-MODIFIED:20250329T201916Z
UID:10005125-1893744000-1893751200@tracyaviary.org
SUMMARY:Bird Surveys with Our Conservation Team
DESCRIPTION:
URL:https://tracyaviary.org/nature-center/event-calendar/bird-surveys-with-our-conservation-team-3/2030-01-04/
CATEGORIES:Daily
END:VEVENT
BEGIN:VEVENT
DTSTART;TZID=UTC:20300111T080000
DTEND;TZID=UTC:20300111T100000
DTSTAMP:20260422T150752
CREATED:20250329T201901Z
LAST-MODIFIED:20250329T201916Z
UID:10005126-1894348800-1894356000@tracyaviary.org
SUMMARY:Bird Surveys with Our Conservation Team
DESCRIPTION:
URL:https://tracyaviary.org/nature-center/event-calendar/bird-surveys-with-our-conservation-team-3/2030-01-11/
CATEGORIES:Daily
END:VEVENT
BEGIN:VEVENT
DTSTART;TZID=UTC:20300118T080000
DTEND;TZID=UTC:20300118T100000
DTSTAMP:20260422T150752
CREATED:20250329T201901Z
LAST-MODIFIED:20250329T201916Z
UID:10005127-1894953600-1894960800@tracyaviary.org
SUMMARY:Bird Surveys with Our Conservation Team
DESCRIPTION:
URL:https://tracyaviary.org/nature-center/event-calendar/bird-surveys-with-our-conservation-team-3/2030-01-18/
CATEGORIES:Daily
END:VEVENT
BEGIN:VEVENT
DTSTART;TZID=UTC:20300125T080000
DTEND;TZID=UTC:20300125T100000
DTSTAMP:20260422T150752
CREATED:20250329T201901Z
LAST-MODIFIED:20250329T201916Z
UID:10005128-1895558400-1895565600@tracyaviary.org
SUMMARY:Bird Surveys with Our Conservation Team
DESCRIPTION:
URL:https://tracyaviary.org/nature-center/event-calendar/bird-surveys-with-our-conservation-team-3/2030-01-25/
CATEGORIES:Daily
END:VEVENT
BEGIN:VEVENT
DTSTART;TZID=UTC:20300127T090000
DTEND;TZID=UTC:20300127T110000
DTSTAMP:20260422T150752
CREATED:20260127T173403Z
LAST-MODIFIED:20260127T173441Z
UID:10005949-1895734800-1895742000@tracyaviary.org
SUMMARY:Let's Go Birding Together
DESCRIPTION:Join us for a casual\, guided bird walk especially for LGBTQIA+ folks and our allies. This program is made for adults to connect with each other and the incredible birds who call the Pia Okwai/Jordan River home. \nLEARN MORE \nLet’s Go Birding Together meets every last Sunday of each month at 9 a.m. Meeting locations vary.  \nNo bird watching experience? No problem! Our educators and conservation scientists are experienced bird nerds and will help you spot and identify birds along the trail. We’ll even have freshly-sanitized binoculars and bird guides for you to borrow (Thanks\, Utah Division of Arts & Museums\, for funding these tools!). \nREGISTER HERE
URL:https://tracyaviary.org/nature-center/event-calendar/lets-go-birding-together-2-2-2-2-2-2-2/2030-01-27/
ATTACH;FMTTYPE=image/jpeg:https://tracyaviary.org/nature-center/wp-content/uploads/sites/3/2025/07/Lets-Go-Birding-Together-Hummingbird-10x10-NCPO.jpg
END:VEVENT
END:VCALENDAR