BEGIN:VCALENDAR
VERSION:2.0
PRODID:-//Nature Center at Pia Okwai - ECPv6.15.16//NONSGML v1.0//EN
CALSCALE:GREGORIAN
METHOD:PUBLISH
X-WR-CALNAME:Nature Center at Pia Okwai
X-ORIGINAL-URL:https://tracyaviary.org/nature-center
X-WR-CALDESC:Events for Nature Center at Pia Okwai
REFRESH-INTERVAL;VALUE=DURATION:PT1H
X-Robots-Tag:noindex
X-PUBLISHED-TTL:PT1H
BEGIN:VTIMEZONE
TZID:UTC
BEGIN:STANDARD
TZOFFSETFROM:+0000
TZOFFSETTO:+0000
TZNAME:UTC
DTSTART:20230101T000000
END:STANDARD
END:VTIMEZONE
BEGIN:VEVENT
DTSTART;TZID=UTC:20240801T100000
DTEND;TZID=UTC:20240801T103000
DTSTAMP:20260212T050840
CREATED:20240626T194240Z
LAST-MODIFIED:20240626T194240Z
UID:10001253-1722506400-1722508200@tracyaviary.org
SUMMARY:Nature Nook Storytimes
DESCRIPTION:Join us for story time at the Nature Center!  \nAll Ages are welcome. \nStory Times will occur at 10 to 10:30 a.m. Meet on the porch. Feel free to bring mats and pillows to sit on.
URL:https://tracyaviary.org/nature-center/event-calendar/nature-nook-storytimes/2024-08-01/
ATTACH;FMTTYPE=image/png:https://tracyaviary.org/nature-center/wp-content/uploads/sites/3/2024/06/2024-Social-Media-67.png
END:VEVENT
BEGIN:VEVENT
DTSTART;TZID=UTC:20240802T070000
DTEND;TZID=UTC:20240802T090000
DTSTAMP:20260212T050840
CREATED:20230713T180532Z
LAST-MODIFIED:20230713T180532Z
UID:10000313-1722582000-1722589200@tracyaviary.org
SUMMARY:Bird Surveys with Our Conservation Team
DESCRIPTION:Join a member of Tracy Aviary’s conservation team for a weekly bird walk! All skill levels welcome. Registration is required.
URL:https://tracyaviary.org/nature-center/event-calendar/bird-surveys-with-our-conservation-team/2024-08-02/
LOCATION:Tracy Aviary’s Nature Center at Pia Okwai\, 1125 W 3300\, South Salt Lake\, UT\, 8411584119\, United States
END:VEVENT
BEGIN:VEVENT
DTSTART;TZID=UTC:20240802T190000
DTEND;TZID=UTC:20240802T220000
DTSTAMP:20260212T050840
CREATED:20230608T232900Z
LAST-MODIFIED:20230608T232900Z
UID:10000205-1722625200-1722636000@tracyaviary.org
SUMMARY:Pasifika First Fridays
DESCRIPTION:Join us every first Friday of the month at 7 p.m. \nExperience the warmth and beauty of the Pacific Islander culture! \nThis event is free to attend. \nLearn more here \n 
URL:https://tracyaviary.org/nature-center/event-calendar/pasifika-first-fridays/2024-08-02/
LOCATION:Tracy Aviary’s Nature Center at Pia Okwai\, 1125 W 3300\, South Salt Lake\, UT\, 8411584119\, United States
ATTACH;FMTTYPE=image/png:https://tracyaviary.org/nature-center/wp-content/uploads/sites/3/2023/06/Screenshot-2023-04-26-173033.png
END:VEVENT
BEGIN:VEVENT
DTSTART;TZID=UTC:20240803T090000
DTEND;TZID=UTC:20240803T100000
DTSTAMP:20260212T050840
CREATED:20231102T214951Z
LAST-MODIFIED:20240628T213425Z
UID:10000784-1722675600-1722679200@tracyaviary.org
SUMMARY:Nature Walk
DESCRIPTION:Join our nature center team for a relaxed walk on the Pia Okwia (Jordan River)! Each week will feature a different focus- insects\, birds\, mammals\, and more!
URL:https://tracyaviary.org/nature-center/event-calendar/nature-walk-2/2024-08-03/
ATTACH;FMTTYPE=image/png:https://tracyaviary.org/nature-center/wp-content/uploads/sites/3/2023/11/2024-Social-Media-68.png
END:VEVENT
BEGIN:VEVENT
DTSTART;TZID=UTC:20240807T160000
DTEND;TZID=UTC:20240807T170000
DTSTAMP:20260212T050840
CREATED:20240628T213542Z
LAST-MODIFIED:20240628T213542Z
UID:10001536-1723046400-1723050000@tracyaviary.org
SUMMARY:Nature Walk
DESCRIPTION:Join our nature center team for a relaxed walk on the Pia Okwia (Jordan River)! Each week will feature a different focus- insects\, birds\, mammals\, and more!
URL:https://tracyaviary.org/nature-center/event-calendar/nature-walk-3/2024-08-07/
ATTACH;FMTTYPE=image/png:https://tracyaviary.org/nature-center/wp-content/uploads/sites/3/2024/06/2024-Social-Media-68.png
END:VEVENT
BEGIN:VEVENT
DTSTART;TZID=UTC:20240808T100000
DTEND;TZID=UTC:20240808T103000
DTSTAMP:20260212T050840
CREATED:20240626T194240Z
LAST-MODIFIED:20240626T194240Z
UID:10001254-1723111200-1723113000@tracyaviary.org
SUMMARY:Nature Nook Storytimes
DESCRIPTION:Join us for story time at the Nature Center!  \nAll Ages are welcome. \nStory Times will occur at 10 to 10:30 a.m. Meet on the porch. Feel free to bring mats and pillows to sit on.
URL:https://tracyaviary.org/nature-center/event-calendar/nature-nook-storytimes/2024-08-08/
ATTACH;FMTTYPE=image/png:https://tracyaviary.org/nature-center/wp-content/uploads/sites/3/2024/06/2024-Social-Media-67.png
END:VEVENT
BEGIN:VEVENT
DTSTART;TZID=UTC:20240809T070000
DTEND;TZID=UTC:20240809T090000
DTSTAMP:20260212T050840
CREATED:20230713T180532Z
LAST-MODIFIED:20230713T180532Z
UID:10000314-1723186800-1723194000@tracyaviary.org
SUMMARY:Bird Surveys with Our Conservation Team
DESCRIPTION:Join a member of Tracy Aviary’s conservation team for a weekly bird walk! All skill levels welcome. Registration is required.
URL:https://tracyaviary.org/nature-center/event-calendar/bird-surveys-with-our-conservation-team/2024-08-09/
LOCATION:Tracy Aviary’s Nature Center at Pia Okwai\, 1125 W 3300\, South Salt Lake\, UT\, 8411584119\, United States
END:VEVENT
BEGIN:VEVENT
DTSTART;TZID=UTC:20240810T090000
DTEND;TZID=UTC:20240810T100000
DTSTAMP:20260212T050840
CREATED:20231102T214951Z
LAST-MODIFIED:20240628T213425Z
UID:10000785-1723280400-1723284000@tracyaviary.org
SUMMARY:Nature Walk
DESCRIPTION:Join our nature center team for a relaxed walk on the Pia Okwia (Jordan River)! Each week will feature a different focus- insects\, birds\, mammals\, and more!
URL:https://tracyaviary.org/nature-center/event-calendar/nature-walk-2/2024-08-10/
ATTACH;FMTTYPE=image/png:https://tracyaviary.org/nature-center/wp-content/uploads/sites/3/2023/11/2024-Social-Media-68.png
END:VEVENT
BEGIN:VEVENT
DTSTART;TZID=UTC:20240811T080000
DTEND;TZID=UTC:20240811T120000
DTSTAMP:20260212T050840
CREATED:20240718T152657Z
LAST-MODIFIED:20240718T152657Z
UID:10001804-1723363200-1723377600@tracyaviary.org
SUMMARY:Puncture Vine Pull
DESCRIPTION:Join us for our community puncture-vine pull in collaboration with Utah Conservation Corps \n\nSnacks and Drinks provided \nLong-sleeves\, sunscreen\, and closed-toed shoes recommended \nYou may stay for the entire duration of the event\, or come and go as desired. \nRegister by emailing volunteers@tracyaviary.org \nRegistration is not required\, but will help us gauge refreshments and equipment required.
URL:https://tracyaviary.org/nature-center/event-calendar/puncture-vine-pull/
ATTACH;FMTTYPE=image/png:https://tracyaviary.org/nature-center/wp-content/uploads/sites/3/2024/07/Volunteer-Opportunity.png
END:VEVENT
BEGIN:VEVENT
DTSTART;TZID=UTC:20240814T160000
DTEND;TZID=UTC:20240814T170000
DTSTAMP:20260212T050840
CREATED:20240628T213542Z
LAST-MODIFIED:20240628T213542Z
UID:10001537-1723651200-1723654800@tracyaviary.org
SUMMARY:Nature Walk
DESCRIPTION:Join our nature center team for a relaxed walk on the Pia Okwia (Jordan River)! Each week will feature a different focus- insects\, birds\, mammals\, and more!
URL:https://tracyaviary.org/nature-center/event-calendar/nature-walk-3/2024-08-14/
ATTACH;FMTTYPE=image/png:https://tracyaviary.org/nature-center/wp-content/uploads/sites/3/2024/06/2024-Social-Media-68.png
END:VEVENT
BEGIN:VEVENT
DTSTART;TZID=UTC:20240815T100000
DTEND;TZID=UTC:20240815T103000
DTSTAMP:20260212T050840
CREATED:20240626T194240Z
LAST-MODIFIED:20240626T194240Z
UID:10001255-1723716000-1723717800@tracyaviary.org
SUMMARY:Nature Nook Storytimes
DESCRIPTION:Join us for story time at the Nature Center!  \nAll Ages are welcome. \nStory Times will occur at 10 to 10:30 a.m. Meet on the porch. Feel free to bring mats and pillows to sit on.
URL:https://tracyaviary.org/nature-center/event-calendar/nature-nook-storytimes/2024-08-15/
ATTACH;FMTTYPE=image/png:https://tracyaviary.org/nature-center/wp-content/uploads/sites/3/2024/06/2024-Social-Media-67.png
END:VEVENT
BEGIN:VEVENT
DTSTART;TZID=UTC:20240816T070000
DTEND;TZID=UTC:20240816T090000
DTSTAMP:20260212T050840
CREATED:20230713T180532Z
LAST-MODIFIED:20230713T180532Z
UID:10000315-1723791600-1723798800@tracyaviary.org
SUMMARY:Bird Surveys with Our Conservation Team
DESCRIPTION:Join a member of Tracy Aviary’s conservation team for a weekly bird walk! All skill levels welcome. Registration is required.
URL:https://tracyaviary.org/nature-center/event-calendar/bird-surveys-with-our-conservation-team/2024-08-16/
LOCATION:Tracy Aviary’s Nature Center at Pia Okwai\, 1125 W 3300\, South Salt Lake\, UT\, 8411584119\, United States
END:VEVENT
BEGIN:VEVENT
DTSTART;TZID=UTC:20240817T090000
DTEND;TZID=UTC:20240817T100000
DTSTAMP:20260212T050840
CREATED:20231102T214951Z
LAST-MODIFIED:20240628T213425Z
UID:10000786-1723885200-1723888800@tracyaviary.org
SUMMARY:Nature Walk
DESCRIPTION:Join our nature center team for a relaxed walk on the Pia Okwia (Jordan River)! Each week will feature a different focus- insects\, birds\, mammals\, and more!
URL:https://tracyaviary.org/nature-center/event-calendar/nature-walk-2/2024-08-17/
ATTACH;FMTTYPE=image/png:https://tracyaviary.org/nature-center/wp-content/uploads/sites/3/2023/11/2024-Social-Media-68.png
END:VEVENT
BEGIN:VEVENT
DTSTART;TZID=UTC:20240820T090000
DTEND;TZID=UTC:20240820T110000
DTSTAMP:20260212T050840
CREATED:20240803T194526Z
LAST-MODIFIED:20240803T205200Z
UID:10001807-1724144400-1724151600@tracyaviary.org
SUMMARY:Storytime
DESCRIPTION:Join The County Library for a monthly song and story adventure provided in partnership with the Nature Center at Pia Okwai. Fun for kiddos with a caring adult. August 20 at 9 and 10 a.m. \nLEARN MORE
URL:https://tracyaviary.org/nature-center/event-calendar/storytime-4/
ATTACH;FMTTYPE=image/png:https://tracyaviary.org/nature-center/wp-content/uploads/sites/3/2024/08/Social-Media-Stuff-6.png
END:VEVENT
BEGIN:VEVENT
DTSTART;TZID=UTC:20240822T100000
DTEND;TZID=UTC:20240822T103000
DTSTAMP:20260212T050840
CREATED:20240626T194240Z
LAST-MODIFIED:20240626T194240Z
UID:10001256-1724320800-1724322600@tracyaviary.org
SUMMARY:Nature Nook Storytimes
DESCRIPTION:Join us for story time at the Nature Center!  \nAll Ages are welcome. \nStory Times will occur at 10 to 10:30 a.m. Meet on the porch. Feel free to bring mats and pillows to sit on.
URL:https://tracyaviary.org/nature-center/event-calendar/nature-nook-storytimes/2024-08-22/
ATTACH;FMTTYPE=image/png:https://tracyaviary.org/nature-center/wp-content/uploads/sites/3/2024/06/2024-Social-Media-67.png
END:VEVENT
BEGIN:VEVENT
DTSTART;TZID=UTC:20240822T180000
DTEND;TZID=UTC:20240822T200000
DTSTAMP:20260212T050840
CREATED:20240803T201201Z
LAST-MODIFIED:20240803T201201Z
UID:10001809-1724349600-1724356800@tracyaviary.org
SUMMARY:Birds of Utah Class
DESCRIPTION:Tracy Aviary’s Conservation Science Program is offering a 6-month class on the birds of Utah. The instructor\, Bryant Olsen\, is one of the most well-respected bird authorities in the region. \nLEARN MORE
URL:https://tracyaviary.org/nature-center/event-calendar/birds-of-utah-class/2024-08-22/
ATTACH;FMTTYPE=image/webp:https://tracyaviary.org/nature-center/wp-content/uploads/sites/3/2024/08/CopyofInstagramTextTemplate11.webp
END:VEVENT
BEGIN:VEVENT
DTSTART;TZID=UTC:20240823T070000
DTEND;TZID=UTC:20240823T090000
DTSTAMP:20260212T050840
CREATED:20230713T180532Z
LAST-MODIFIED:20230713T180532Z
UID:10000316-1724396400-1724403600@tracyaviary.org
SUMMARY:Bird Surveys with Our Conservation Team
DESCRIPTION:Join a member of Tracy Aviary’s conservation team for a weekly bird walk! All skill levels welcome. Registration is required.
URL:https://tracyaviary.org/nature-center/event-calendar/bird-surveys-with-our-conservation-team/2024-08-23/
LOCATION:Tracy Aviary’s Nature Center at Pia Okwai\, 1125 W 3300\, South Salt Lake\, UT\, 8411584119\, United States
END:VEVENT
BEGIN:VEVENT
DTSTART;TZID=UTC:20240824T090000
DTEND;TZID=UTC:20240824T100000
DTSTAMP:20260212T050840
CREATED:20231102T214951Z
LAST-MODIFIED:20240628T213425Z
UID:10000787-1724490000-1724493600@tracyaviary.org
SUMMARY:Nature Walk
DESCRIPTION:Join our nature center team for a relaxed walk on the Pia Okwia (Jordan River)! Each week will feature a different focus- insects\, birds\, mammals\, and more!
URL:https://tracyaviary.org/nature-center/event-calendar/nature-walk-2/2024-08-24/
ATTACH;FMTTYPE=image/png:https://tracyaviary.org/nature-center/wp-content/uploads/sites/3/2023/11/2024-Social-Media-68.png
END:VEVENT
BEGIN:VEVENT
DTSTART;TZID=UTC:20240829T100000
DTEND;TZID=UTC:20240829T103000
DTSTAMP:20260212T050840
CREATED:20240828T212420Z
LAST-MODIFIED:20240828T212421Z
UID:10001257-1724925600-1724927400@tracyaviary.org
SUMMARY:Nature Nook Storytimes
DESCRIPTION:Join us for story time at the Nature Center!  \nAll Ages are welcome. \nStory Times will occur at 10 to 10:30 a.m. Meet on the porch. Feel free to bring mats and pillows to sit on.
URL:https://tracyaviary.org/nature-center/event-calendar/nature-nook-storytimes-2/2024-08-29/
ATTACH;FMTTYPE=image/png:https://tracyaviary.org/nature-center/wp-content/uploads/sites/3/2024/06/2024-Social-Media-67.png
END:VEVENT
BEGIN:VEVENT
DTSTART;TZID=UTC:20240829T180000
DTEND;TZID=UTC:20240829T200000
DTSTAMP:20260212T050840
CREATED:20240803T201201Z
LAST-MODIFIED:20240803T201201Z
UID:10001810-1724954400-1724961600@tracyaviary.org
SUMMARY:Birds of Utah Class
DESCRIPTION:Tracy Aviary’s Conservation Science Program is offering a 6-month class on the birds of Utah. The instructor\, Bryant Olsen\, is one of the most well-respected bird authorities in the region. \nLEARN MORE
URL:https://tracyaviary.org/nature-center/event-calendar/birds-of-utah-class/2024-08-29/
ATTACH;FMTTYPE=image/webp:https://tracyaviary.org/nature-center/wp-content/uploads/sites/3/2024/08/CopyofInstagramTextTemplate11.webp
END:VEVENT
BEGIN:VEVENT
DTSTART;TZID=UTC:20240830T070000
DTEND;TZID=UTC:20240830T090000
DTSTAMP:20260212T050840
CREATED:20230713T180532Z
LAST-MODIFIED:20230713T180532Z
UID:10000317-1725001200-1725008400@tracyaviary.org
SUMMARY:Bird Surveys with Our Conservation Team
DESCRIPTION:Join a member of Tracy Aviary’s conservation team for a weekly bird walk! All skill levels welcome. Registration is required.
URL:https://tracyaviary.org/nature-center/event-calendar/bird-surveys-with-our-conservation-team/2024-08-30/
LOCATION:Tracy Aviary’s Nature Center at Pia Okwai\, 1125 W 3300\, South Salt Lake\, UT\, 8411584119\, United States
END:VEVENT
BEGIN:VEVENT
DTSTART;TZID=UTC:20240830T153000
DTEND;TZID=UTC:20240830T163000
DTSTAMP:20260212T050840
CREATED:20240828T215319Z
LAST-MODIFIED:20241103T161345Z
UID:10003061-1725031800-1725035400@tracyaviary.org
SUMMARY:Nature Walk
DESCRIPTION:Join our nature center team for a relaxed walk on the Pia Okwai (Jordan River)! Each week will feature a different focus- insects\, birds\, mammals\, and more! \nFridays at 4 p.m.\nSaturdays at 10:30 a.m. \nEach Saturday we will have special nature walks \n\n1st Saturday: Bike and Bird\n2nd Saturday: Spanish Language Nature Walk\n3rd Saturday: Let’s Go Birding Together\n4th Saturday: Senior Stroll
URL:https://tracyaviary.org/nature-center/event-calendar/nature-walk-3-2/2024-08-30/
ATTACH;FMTTYPE=image/png:https://tracyaviary.org/nature-center/wp-content/uploads/sites/3/2024/08/2024-Social-Media-100.png
END:VEVENT
END:VCALENDAR